Workbook

Sheet WYNIKI
A1: Miejsce | B1: Zawodnik | C1: Skąd | D1: Łuk | E1: Najlepszy | F1: 1 | G1: 2 | H1: 3
A3: 1 | B3: Paweł Kikel | C3: Koszalin | D3: BB | E3: =LARGE(F3:H3,1) -> 338 | F3: ='225 KKRka 03.11.24'!F4 -> 329 | G3: 328 | H3: 338
A4: 2 | B4: Radosław "Shogun" Wiśniewski | C4: Koszalin | D4: T | E4: =LARGE(F4:H4,1) -> 265 | F4: ='225 KKRka 03.11.24'!F5 -> 265 | G4: 247
A5: 3 | B5: Kostiantyn Fedotov | C5: Koszalin | D5: T | E5: =LARGE(F5:H5,1) -> 262 | F5: ='225 KKRka 03.11.24'!F6 -> 262 | G5: 214
A6: 4 | B6: Krzysztof "FAZIK" Brzeziński | C6: Koszalin | D6: T | E6: =LARGE(F6:H6,1) -> 255 | F6: ='225 KKRka 03.11.24'!F11 -> 195 | G6: 82 | H6: 255
A7: 5 | B7: Robert "Gata" Piechota | C7: Koszalin | D7: T | E7: =LARGE(F7:H7,1) -> 252 | F7: ='225 KKRka 03.11.24'!F7 -> 252 | G7: 249
A8: 6 | B8: Donat Grotha | C8: Lębork | D8: BB | E8: =LARGE(F8:H8,1) -> 244 | H8: 244
A9: 7 | B9: Robert "Stanley" Stańczyk | C9: Koszalin | D9: T | E9: =LARGE(F9:H9,1) -> 238 | F9: ='225 KKRka 03.11.24'!F8 -> 238
A10: 8 | B10: Marzena Goike | C10: Chocilewko | D10: T | E10: =LARGE(F10:H10,1) -> 228 | H10: 228
A11: 9 | B11: Mateusz Jezierski | C11: Koszalin | D11: T | E11: =LARGE(F11:H11,1) -> 222 | F11: ='225 KKRka 03.11.24'!F9 -> 222 | G11: 195
A12: 10 | B12: Leszek "Haris" Jęczkowski | C12: Koszalin | D12: T | E12: =LARGE(F12:H12,1) -> 221 | F12: ='225 KKRka 03.11.24'!F10 -> 221 | H12: 155
A13: 11 | B13: Igor Adaszkiewicz | C13: Lębork | D13: Hunt | E13: =LARGE(F13:H13,1) -> 216 | H13: 216
A14: 12 | B14: Dorota Janiszewska | C14: Koszalin | D14: T | E14: =LARGE(F14:H14,1) -> 215 | F14: ='225 KKRka 03.11.24'!F12 -> 194 | G14: 215 | H14: 188
A15: 13 | B15: Robert "Franek" Frank | C15: Koszalin | D15: T | E15: =LARGE(F15:H15,1) -> 175 | H15: 175

Sheet 227 KKRka 11.11.2024
B1: Drabinka: | R1: x | S1: Średnia punktów / rundę | T1: Średnia punktów /strzałę | V1: Finał: | AA1: Drabinka + Finał
B2: Miejsce | C2: Zawodnik | D2: Skąd | E2: Łuk | F2: Suma | G2: 1 | H2: 2 | I2: 3 | J2: 4 | K2: 5 | L2: 6 | M2: 7 | N2: 8 | O2: 9 | P2: 10 | Q2: 11 | R2: 12 | V2: Miejsce | W2: Zawodnik | X2: Średnia punktów / rundę | Y2: Średnia punktów /strzałę | AA2: Średnia punktów / rundę | AB2: Średnia punktów /strzałę
B4: 1 | C4: Paweł Kikel | D4: Koszalin | E4: BB | F4: =SUM(G4:R4) -> 338 | G4: 21 | H4: 28 | I4: 30 | J4: 28 | K4: 28 | L4: 31 | M4: 27 | N4: 29 | O4: 29 | P4: 30 | Q4: 27 | R4: 30 | S4: =F4/12 -> 28.166667 | T4: =S4/3 -> 9.3888889 | V4: 1 | W4: =C4 -> Paweł Kikel | X4: =(V35)/4 -> 24.25 | Y4: =X4/3 -> 8.0833333 | AA4: =(F4+V35)/16 -> 27.1875 | AB4: =AA4/3 -> 9.0625
B5: 2 | C5: Krzysztof "FAZIK" Brzeziński | D5: Koszalin | E5: BB | F5: =SUM(G5:R5) -> 255 | G5: 28 | H5: =9+9+8 -> 26 | I5: 16 | J5: 6 | K5: 23 | L5: 16 | M5: 28 | N5: 24 | O5: 15 | P5: 24 | Q5: 24 | R5: 25 | S5: =F5/12 -> 21.25 | T5: =S5/3 -> 7.0833333 | V5: 2 | W5: =C8 -> Igor Adaszkiewicz | X5: =(V31+V34+V28+V25+V23)/19 -> 22.157895 | Y5: =X5/3 -> 7.3859649 | AA5: =(F8+V34+V31+V28+V25+V23)/31 -> 20.548387 | AB5: =AA5/3 -> 6.8494624
B6: 3 | C6: Donat Grotha | D6: Lębork | E6: BB | F6: =SUM(G6:R6) -> 244 | G6: 13 | H6: 24 | I6: 7 | J6: 16 | K6: 19 | L6: 25 | M6: 25 | N6: 21 | O6: 25 | P6: 28 | Q6: 25 | R6: 16 | S6: =F6/12 -> 20.333333 | T6: =S6/3 -> 6.7777778 | V6: 3 | W6: =C5 -> Krzysztof "FAZIK" Brzeziński | X6: =(V32)/5 -> 23.2 | Y6: =X6/3 -> 7.7333333 | AA6: =(F5+V32)/17 -> 21.823529 | AB6: =AA6/3 -> 7.2745098
B7: 4 | C7: Marzena Goike | D7: Chocilewko | E7: T | F7: =SUM(G7:R7) -> 228 | G7: =6+8+9 -> 23 | H7: 28 | I7: 15 | J7: 15 | K7: 24 | L7: 6 | M7: 29 | N7: 29 | O7: =8+7 -> 15 | P7: 16 | Q7: 6 | R7: 22 | S7: =F7/12 -> 19 | T7: =S7/3 -> 6.3333333 | V7: 4 | W7: =C6 -> Donat Grotha | X7: =(V29)/3 -> 19.666667 | Y7: =X7/3 -> 6.5555556 | AA7: =(F6+V29)/15 -> 20.2 | AB7: =AA7/3 -> 6.7333333
B8: 5 | C8: Igor Adaszkiewicz | D8: Lębork | E8: Hunt | F8: =SUM(G8:R8) -> 216 | G8: 8 | H8: 25 | I8: 18 | J8: 22 | K8: 20 | L8: 26 | M8: 12 | N8: 16 | O8: 9 | P8: 21 | Q8: 16 | R8: 23 | S8: =F8/12 -> 18 | T8: =S8/3 -> 6 | V8: 5 | W8: =C7 -> Marzena Goike | X8: =(V26)/4 -> 17.25 | Y8: =X8/3 -> 5.75 | AA8: =(F7+V26)/16 -> 18.5625 | AB8: =AA8/3 -> 6.1875
B9: 6 | C9: Dorota Janiszewska | D9: Koszalin | E9: T | F9: =SUM(G9:R9) -> 188 | G9: 8 | H9: 19 | I9: 17 | J9: 27 | K9: 15 | L9: 6 | M9: 22 | N9: 15 | O9: 22 | P9: 24 | Q9: 7 | R9: 6 | S9: =F9/12 -> 15.666667 | T9: =S9/3 -> 5.2222222 | V9: 6 | W9: =C11 -> Leszek "Haris" Jęczkowski | X9: =(V20+V22)/8 -> 16.625 | Y9: =X9/3 -> 5.5416667 | AA9: =(F11+V20+V22)/20 -> 14.4 | AB9: =AA9/3 -> 4.8
B10: 7 | C10: Robert "Franek" Frank | D10: Koszalin | E10: T | F10: =SUM(G10:R10) -> 175 | G10: 21 | H10: 0 | I10: 16 | J10: 16 | K10: 22 | L10: 16 | M10: 0 | N10: 19 | O10: 13 | P10: 22 | Q10: 14 | R10: 16 | S10: =F10/12 -> 14.583333 | T10: =S10/3 -> 4.8611111 | V10: 7 | W10: =C10 -> Robert "Franek" Frank | X10: =(V16+V19)/10 -> 15.6 | Y10: =X10/3 -> 5.2 | AA10: =(F10+V16+V19)/22 -> 15.045455 | AB10: =AA10/3 -> 5.0151515
B11: 8 | C11: Leszek "Haris" Jęczkowski | D11: Koszalin | E11: H | F11: =SUM(G11:R11) -> 155 | G11: 6 | H11: 23 | I11: 9 | J11: 18 | K11: 8 | L11: 14 | M11: 21 | N11: 6 | O11: 6 | P11: 14 | Q11: 22 | R11: 8 | S11: =F11/12 -> 12.916667 | T11: =S11/3 -> 4.3055556 | V11: 6 | W11: =C9 -> Dorota Janiszewska | X11: =(V17)/5 -> 9.4 | Y11: =X11/3 -> 3.1333333 | AA11: =(F9+V17)/20 -> 11.75 | AB11: =AA11/3 -> 3.9166667
V14: Suma Punktów
B15: Miejsce | C15: Zawodnik | D15: SUMA | E15: Tarcza | F15: PKT | G15: Tarcza | H15: PKT | I15: Tarcza | J15: PKT | K15: Tarcza | L15: PKT | M15: Tarcza | N15: PKT | O15: Remis
C16: Robert "Franek" Frank | D16: =F16+H16+J16+L16+N16 -> 7 | E16: 14 | F16: 2 | G16: 12 | H16: 1 | I16: 22 | J16: 2 | K16: 14 | L16: 0 | M16: 18 | N16: 2 | S16: =V16/5 -> 16 | T16: =S16/3 -> 5.3333333 | V16: =E16+G16+I16+K16+M16 -> 80
B17: 8 | C17: Dorota Janiszewska | D17: =F17+H17+J17+L17+N17 -> 3 | E17: 0 | F17: 0 | G17: 12 | H17: 1 | I17: 7 | J17: 0 | K17: 16 | L17: 2 | M17: 12 | N17: 0 | S17: =V17/5 -> 9.4 | T17: =S17/3 -> 3.1333333 | V17: =E17+G17+I17+K17+M17 -> 47
B19: 7 | C19: Robert "Franek" Frank | D19: =F19+H19+J19+L19+N19 -> 4 | E19: 6 | F19: 0 | G19: 16 | H19: 2 | I19: 18 | J19: 2 | K19: 18 | L19: 0 | M19: 18 | N19: 0 | S19: =V19/5 -> 15.2 | T19: =S19/3 -> 5.0666667 | V19: =E19+G19+I19+K19+M19 -> 76
C20: Leszek "Haris" Jęczkowski | D20: =F20+H20+J20+L20+N20 -> 6 | E20: 16 | F20: 2 | G20: 7 | H20: 0 | I20: 15 | J20: 0 | K20: 20 | L20: 2 | M20: 25 | N20: 2 | S20: =V20/5 -> 16.6 | T20: =S20/3 -> 5.5333333 | V20: =E20+G20+I20+K20+M20 -> 83
B22: 6 | C22: Leszek "Haris" Jęczkowski | D22: =F22+H22+J22+L22+N22 -> 0 | E22: 6 | F22: 0 | G22: 22 | H22: 0 | I22: 22 | J22: 0 | S22: =V22/3 -> 16.666667 | T22: =S22/3 -> 5.5555556 | V22: =E22+G22+I22+K22+M22 -> 50
C23: Igor Adaszkiewicz | D23: =F23+H23+J23+L23+N23 -> 6 | E23: 28 | F23: 2 | G23: 23 | H23: 2 | I23: 23 | J23: 2 | S23: =V23/3 -> 24.666667 | T23: =S23/3 -> 8.2222222 | V23: =E23+G23+I23+K23+M23 -> 74
C25: Igor Adaszkiewicz | D25: =F25+H25+J25+L25+N25 -> 6 | E25: 15 | F25: 0 | G25: 24 | H25: 2 | I25: 24 | J25: 2 | K25: 23 | L25: 2 | S25: =V25/4 -> 21.5 | T25: =S25/3 -> 7.1666667 | V25: =E25+G25+I25+K25+M25 -> 86
B26: 5 | C26: Marzena Goike | D26: =F26+H26+J26+L26+N26 -> 2 | E26: 23 | F26: 2 | G26: 17 | H26: 0 | I26: 12 | J26: 0 | K26: 17 | L26: 0 | S26: =V26/4 -> 17.25 | T26: =S26/3 -> 5.75 | V26: =E26+G26+I26+K26+M26 -> 69
C28: Igor Adaszkiewicz | D28: =F28+H28+J28+L28+N28 -> 6 | E28: 24 | F28: 2 | G28: 22 | H28: 2 | I28: 25 | J28: 2 | S28: =V28/3 -> 23.666667 | T28: =S28/3 -> 7.8888889 | V28: =E28+G28+I28+K28+M28 -> 71
B29: 4 | C29: Donat Grotha | D29: =F29+H29+J29+L29+N29 -> 0 | E29: 16 | F29: 0 | G29: 20 | H29: 0 | I29: 23 | J29: 0 | S29: =V29/3 -> 19.666667 | T29: =S29/3 -> 6.5555556 | V29: =E29+G29+I29+K29+M29 -> 59
C31: Igor Adaszkiewicz | D31: =F31+H31+J31+L31+N31 -> 6 | E31: 16 | F31: 0 | G31: 24 | H31: 2 | I31: 23 | J31: 2 | K31: 24 | L31: 0 | M31: 27 | N31: 2 | S31: =V31/5 -> 22.8 | T31: =S31/3 -> 7.6 | V31: =E31+G31+I31+K31+M31 -> 114
B32: 3 | C32: Krzysztof "FAZIK" Brzeziński | D32: =F32+H32+J32+L32+N32 -> 4 | E32: 27 | F32: 2 | G32: 23 | H32: 0 | I32: 18 | J32: 0 | K32: 27 | L32: 2 | M32: 21 | N32: 0 | S32: =V32/5 -> 23.2 | T32: =S32/3 -> 7.7333333 | V32: =E32+G32+I32+K32+M32 -> 116
B34: 2 | C34: Igor Adaszkiewicz | D34: =F34+H34+J34+L34+N34 -> 2 | E34: 8 | F34: 0 | G34: 23 | H34: 2 | I34: 21 | J34: 0 | K34: 24 | L34: 0 | S34: =V34/4 -> 19 | T34: =S34/3 -> 6.3333333 | V34: =E34+G34+I34+K34+M34 -> 76
C35: Paweł Kikel | D35: =F35+H35+J35+L35+N35 -> 6 | E35: 28 | F35: 2 | G35: 18 | H35: 0 | I35: 26 | J35: 2 | K35: 25 | L35: 2 | S35: =V35/4 -> 24.25 | T35: =S35/3 -> 8.0833333 | V35: =E35+G35+I35+K35+M35 -> 97
B37: 1 | C37: Paweł Kikel

Sheet 226 KKRka 10.11.24
B1: Drabinka: | S1: Średnia punktów / rundę | T1: Średnia punktów /strzałę | V1: Finał: | AA1: Drabinka + Finał
B2: Miejsce | C2: Zawodnik | D2: Skąd | E2: Łuk | F2: Suma | G2: 1 | H2: 2 | I2: 3 | J2: 4 | K2: 5 | L2: 6 | M2: 7 | N2: 8 | O2: 9 | P2: 10 | Q2: 11 | R2: 12 | V2: Miejsce | W2: Zawodnik | X2: Średnia punktów / rundę | Y2: Średnia punktów /strzałę | AA2: Średnia punktów / rundę | AB2: Średnia punktów /strzałę
B4: 1 | C4: Paweł Kikel | D4: Koszalin | E4: BB | F4: =SUM(G4:R4) -> 328 | G4: 26 | H4: 27 | I4: 28 | J4: 31 | K4: 25 | L4: 26 | M4: 26 | N4: 29 | O4: 27 | P4: 25 | Q4: 29 | R4: 29 | S4: =F4/12 -> 27.333333 | T4: =S4/3 -> 9.1111111 | V4: 1 | W4: =C4 -> Paweł Kikel | X4: =(V31)/3 -> 26.666667 | Y4: =X4/3 -> 8.8888889 | AA4: =(F4+V31)/15 -> 27.2 | AB4: =AA4/3 -> 9.0666667
B5: 2 | C5: Robert "Gata" Piechota | D5: Koszalin | E5: T | F5: =SUM(G5:R5) -> 249 | G5: 16 | H5: 27 | I5: 13 | J5: 23 | K5: 25 | L5: 25 | M5: 17 | N5: 20 | O5: 27 | P5: 25 | Q5: 14 | R5: 17 | S5: =F5/12 -> 20.75 | T5: =S5/3 -> 6.9166667 | V5: 2 | W5: =C5 -> Robert "Gata" Piechota | X5: =(V28+V30)/6 -> 21.333333 | Y5: =X5/3 -> 7.1111111 | AA5: =(F5+V28+V30)/18 -> 20.944444 | AB5: =AA5/3 -> 6.9814815
B6: 3 | C6: Radosław "Shogun" Wiśniewski | D6: Koszalin | E6: T | F6: 247 | G6: 7 | H6: 25 | I6: 6 | J6: 27 | K6: 24 | L6: 23 | M6: 27 | N6: 17 | O6: 25 | P6: 21 | Q6: 25 | R6: 20 | S6: 20.583333 | T6: 6.8611111 | V6: 3 | W6: =C6 -> Radosław "Shogun" Wiśniewski | X6: =(V27+V25)/7 -> 21.428571 | Y6: =X6/3 -> 7.1428571 | AA6: =(F6+V25+V27)/19 -> 20.894737 | AB6: =AA6/3 -> 6.9649123
B7: 4 | C7: Dorota Janiszewska | D7: Koszalin | E7: T | F7: =SUM(G7:R7) -> 215 | G7: 16 | H7: 22 | I7: 9 | J7: 21 | K7: 7 | L7: 16 | M7: 22 | N7: 25 | O7: 16 | P7: 21 | Q7: 16 | R7: 24 | S7: =F7/12 -> 17.916667 | T7: =S7/3 -> 5.9722222 | V7: 4 | W7: =C24 -> Kostiantyn Fedotov | X7: =(V24+V21)/8 -> 18.5 | Y7: =X7/3 -> 6.1666667 | AA7: =(F8+V21+V19+V24)/24 -> 18.333333 | AB7: =AA7/3 -> 6.1111111
B8: 5 | C8: Kostiantyn Fedotov | D8: Koszalin | E8: T | F8: =SUM(G8:R8) -> 214 | G8: 15 | H8: 19 | I8: 22 | J8: 21 | K8: 15 | L8: 17 | M8: 23 | N8: 9 | O8: 20 | P8: 16 | Q8: 22 | R8: 15 | S8: =F8/12 -> 17.833333 | T8: =S8/3 -> 5.9444444 | V8: 5 | W8: =C22 -> Dorota Janiszewska | X8: =(V22)/4 -> 14.5 | Y8: =X8/3 -> 4.8333333 | AA8: =(F7+V22)/16 -> 17.0625 | AB8: =AA8/3 -> 5.6875
B9: 6 | C9: Mateusz Jezierski | D9: Koszalin | E9: T | F9: =SUM(G9:R9) -> 195 | G9: 14 | H9: 6 | I9: 12 | J9: 15 | K9: 22 | L9: 18 | M9: 6 | N9: 15 | O9: 20 | P9: 20 | Q9: 22 | R9: 25 | S9: =F9/12 -> 16.25 | T9: =S9/3 -> 5.4166667 | V9: 6 | W9: =C9 -> Mateusz Jezierski | X9: =(V18+V16)/8 -> 19.25 | Y9: =X9/3 -> 6.4166667 | AA9: =(F9+V22+V24)/20 -> 15.95 | AB9: =AA9/3 -> 5.3166667
B10: 7 | C10: Krzysztof "FAZIK" Brzeziński | D10: Koszalin | E10: T | F10: =SUM(G10:R10) -> 82 | O10: 24 | P10: 9 | Q10: 25 | R10: 24 | S10: =F10/4 -> 20.5 | T10: =S10/3 -> 6.8333333 | V10: 7 | W10: =C10 -> Krzysztof "FAZIK" Brzeziński | X10: =(V15)/4 -> 21.25 | Y10: =X10/3 -> 7.0833333 | AA10: =(V15+F10)/8 -> 20.875 | AB10: =AA10/3 -> 6.9583333
S12: Średnia punktów / rundę | T12: Średnia punktów / strzałę
V13: Suma Punktów
B14: Miejsce | C14: Zawodnik | D14: SUMA | E14: Tarcza | F14: PKT | G14: Tarcza | H14: PKT | I14: Tarcza | J14: PKT | K14: Tarcza | L14: PKT | M14: Tarcza | N14: PKT | O14: Remis
B15: 7 | C15: Krzysztof "FAZIK" Brzeziński | D15: =F15+H15+J15+L15+N15 -> 2 | E15: 24 | F15: 2 | G15: 23 | H15: 0 | I15: 16 | J15: 0 | K15: 22 | L15: 0 | S15: =V15/4 -> 21.25 | T15: =S15/3 -> 7.0833333 | V15: =E15+G15+I15+K15+M15 -> 85
C16: Mateusz Jezierski | D16: =F16+H16+J16+L16+N16 -> 6 | E16: 17 | F16: 0 | G16: 24 | H16: 2 | I16: 20 | J16: 2 | K16: 23 | L16: 2 | S16: =V16/4 -> 21 | T16: =S16/3 -> 7 | V16: =E16+G16+I16+K16+M16 -> 84
B18: 6 | C18: Mateusz Jezierski | D18: =F18+H18+J18+L18+N18 -> 2 | E18: 22 | F18: 2 | G18: 21 | H18: 0 | I18: 14 | J18: 0 | K18: 13 | L18: 0 | S18: =V18/4 -> 17.5 | T18: =S18/3 -> 5.8333333 | V18: =E18+G18+I18+K18+M18 -> 70
C19: Kostiantyn Fedotov | D19: =F19+H19+J19+L19+N19 -> 6 | E19: 16 | F19: 0 | G19: 24 | H19: 2 | I19: 24 | J19: 2 | K19: 14 | L19: 2 | S19: =V19/4 -> 19.5 | T19: =S19/3 -> 6.5 | V19: =E19+G19+I19+K19+M19 -> 78
C21: Kostiantyn Fedotov | D21: =F21+H21+J21+L21+N21 -> 6 | E21: 26 | F21: 2 | G21: 23 | H21: 2 | I21: 19 | J21: 0 | K21: 14 | L21: 2 | S21: =V21/4 -> 20.5 | T21: =S21/3 -> 6.8333333 | V21: =E21+G21+I21+K21+M21 -> 82
B22: 5 | C22: Dorota Janiszewska | D22: =F22+H22+J22+L22+N22 -> 2 | E22: 8 | F22: 0 | G22: 15 | H22: 0 | I22: 23 | J22: 2 | K22: 12 | L22: 0 | S22: =V22/4 -> 14.5 | T22: =S22/3 -> 4.8333333 | V22: =E22+G22+I22+K22+M22 -> 58
B24: 4 | C24: Kostiantyn Fedotov | D24: =F24+H24+J24+L24+N24 -> 2 | E24: 9 | F24: 0 | G24: 25 | H24: 0 | I24: 20 | J24: 2 | K24: 12 | L24: 0 | S24: =V24/4 -> 16.5 | T24: =S24/3 -> 5.5 | V24: =E24+G24+I24+K24+M24 -> 66
C25: Radosław "Shogun" Wiśniewski | D25: =F25+H25+J25+L25+N25 -> 6 | E25: 26 | F25: 2 | G25: 28 | H25: 2 | I25: 16 | J25: 0 | K25: 25 | L25: 2 | S25: =V25/4 -> 23.75 | T25: =S25/3 -> 7.9166667 | V25: =E25+G25+I25+K25+M25 -> 95
B27: 3 | C27: Radosław "Shogun" Wiśniewski | D27: =F27+H27+J27+L27+N27 -> 0 | E27: 16 | F27: 0 | G27: 16 | H27: 0 | I27: 23 | J27: 0 | S27: =V27/3 -> 18.333333 | T27: =S27/3 -> 6.1111111 | V27: =E27+G27+I27+K27+M27 -> 55
C28: Robert "Gata" Piechota | D28: =F28+H28+J28+L28+N28 -> 6 | E28: 24 | F28: 2 | G28: 18 | H28: 2 | I28: 27 | J28: 2 | S28: =V28/3 -> 23 | T28: =S28/3 -> 7.6666667 | V28: =E28+G28+I28+K28+M28 -> 69
B30: 2 | C30: Robert "Gata" Piechota | D30: =F30+H30+J30+L30+N30 -> 0 | E30: 18 | F30: 0 | G30: 16 | H30: 0 | I30: 25 | J30: 0 | S30: =V30/3 -> 19.666667 | T30: =S30/3 -> 6.5555556 | V30: =E30+G30+I30+K30+M30 -> 59
C31: Paweł Kikel | D31: =F31+H31+J31+L31+N31 -> 6 | E31: 26 | F31: 2 | G31: 25 | H31: 2 | I31: 29 | J31: 2 | S31: =V31/3 -> 26.666667 | T31: =S31/3 -> 8.8888889 | V31: =E31+G31+I31+K31+M31 -> 80
B33: 1 | C33: Paweł Kikel

Sheet 225 KKRka 03.11.24
B1: Drabinka: | S1: Średnia punktów / rundę | T1: Średnia punktów /strzałę | V1: Finał: | AA1: Drabinka + Finał
B2: Miejsce | C2: Zawodnik | D2: Skąd | E2: Łuk | F2: Suma | G2: 1 | H2: 2 | I2: 3 | J2: 4 | K2: 5 | L2: 6 | M2: 7 | N2: 8 | O2: 9 | P2: 10 | Q2: 11 | R2: 12 | V2: Miejsce | W2: Zawodnik | X2: Średnia punktów / rundę | Y2: Średnia punktów /strzałę | AA2: Średnia punktów / rundę | AB2: Średnia punktów /strzałę
A4: 3 | B4: 1 | C4: Paweł Kikel | D4: Koszalin | E4: BB | F4: 329 | G4: 27 | H4: 28 | I4: 27 | J4: 26 | K4: 29 | L4: 27 | M4: 30 | N4: 27 | O4: 29 | P4: 29 | Q4: 25 | R4: 25 | S4: 27.416667 | T4: 9.1388889 | V4: 1 | W4: =C41 -> Paweł Kikel | X4: =V39/3 -> 27.666667 | Y4: =X4/3 -> 9.2222222 | AA4: =(F4+V39)/15 -> 27.466667 | AB4: =AA4/3 -> 9.1555556
A5: 1 | B5: 2 | C5: Radosław "Shogun" Wiśniewski | D5: Koszalin | E5: T | F5: 265 | G5: 23 | H5: 24 | I5: 25 | J5: 16 | K5: 26 | L5: 9 | M5: 24 | N5: 23 | O5: 23 | P5: 23 | Q5: 27 | R5: 22 | S5: 22.083333 | T5: 7.3611111 | V5: 2 | W5: =C38 -> Radosław "Shogun" Wiśniewski | X5: =(V38+V36)/8 -> 18.875 | Y5: =X5/3 -> 6.2916667 | AA5: =(F5+V38+V36)/20 -> 20.8 | AB5: =AA5/3 -> 6.9333333
A6: 1 | B6: 3 | C6: Kostiantyn Fedotov | D6: Koszalin | E6: T | F6: 262 | G6: 26 | H6: 17 | I6: 17 | J6: 24 | K6: 16 | L6: 21 | M6: 24 | N6: 25 | O6: 18 | P6: 25 | Q6: 23 | R6: 26 | S6: 21.833333 | T6: 7.2777778 | V6: 3 | W6: =C35 -> Kostiantyn Fedotov | X6: =(V33+V35)/10 -> 21.6 | Y6: =X6/3 -> 7.2 | AA6: =(F6+V33+V35)/22 -> 21.727273 | AB6: =AA6/3 -> 7.2424242
A7: 1 | B7: 4 | C7: Robert "Gata" Piechota | D7: Koszalin | E7: T | F7: 252 | G7: 27 | H7: 23 | I7: 16 | J7: 16 | K7: 16 | L7: 17 | M7: 20 | N7: 24 | O7: 29 | P7: 14 | Q7: 24 | R7: 26 | S7: 21 | T7: 7 | V7: 4 | W7: =C32 -> Robert "Gata" Piechota | X7: =(V30+V32)/9 -> 21.666667 | Y7: =X7/3 -> 7.2222222 | AA7: =(F7+V30+V32)/21 -> 21.285714 | AB7: =AA7/3 -> 7.0952381
A8: 1 | B8: 5 | C8: Robert "Stanley" Stańczyk | D8: Koszalin | E8: T | F8: 238 | G8: 14 | H8: 25 | I8: 15 | J8: 9 | K8: 25 | L8: 26 | M8: 22 | N8: 16 | O8: 22 | P8: 25 | Q8: 13 | R8: 26 | S8: 19.833333 | T8: 6.6111111 | V8: 5 | W8: =C29 -> Robert "Stanley" Stańczyk | X8: =(V27+V29)/8 -> 20.625 | Y8: =X8/3 -> 6.875 | AA8: =(F8+V27+V29)/20 -> 20.15 | AB8: =AA8/3 -> 6.7166667
B9: 6 | C9: Mateusz Jezierski | D9: Koszalin | E9: T | F9: 222 | G9: 20 | H9: 10 | I9: 13 | J9: 22 | K9: 26 | L9: 24 | M9: 14 | N9: 20 | O9: 21 | P9: 14 | Q9: 14 | R9: 24 | S9: 18.5 | T9: 6.1666667 | V9: 6 | W9: =C26 -> Mateusz Jezierski | X9: =(V24+V26)/8 -> 19.375 | Y9: =X9/3 -> 6.4583333 | AA9: =(F9+V24+V26)/20 -> 18.85 | AB9: =AA9/3 -> 6.2833333
A10: 1 | B10: 7 | C10: Leszek "Haris" Jęczkowski | D10: Koszalin | E10: T | F10: 221 | G10: 15 | H10: 22 | I10: 15 | J10: 14 | K10: 23 | L10: 15 | M10: 27 | N10: 9 | O10: 21 | P10: 21 | Q10: 25 | R10: 14 | S10: 18.416667 | T10: 6.1388889 | V10: 7 | W10: =C23 -> Krzysztof "FAZIK" Brzeziński | X10: =(V20+V18+V23)/12 -> 19.833333 | Y10: =X10/3 -> 6.6111111 | AA10: =(F11+V20+V18+V23)/24 -> 18.041667 | AB10: =AA10/3 -> 6.0138889
B11: 8 | C11: Krzysztof "FAZIK" Brzeziński | D11: Koszalin | E11: T | F11: 195 | G11: 7 | H11: 18 | I11: 13 | J11: 15 | K11: 24 | L11: 27 | M11: 13 | N11: 13 | O11: 23 | P11: 21 | Q11: 12 | R11: 9 | S11: 16.25 | T11: 5.4166667 | V11: 8 | W11: =C21 -> Leszek "Haris" Jęczkowski | X11: =(V21)/5 -> 12.8 | Y11: =X11/3 -> 4.2666667 | AA11: =(F10+V21)/17 -> 16.764706 | AB11: =AA11/3 -> 5.5882353
B12: 9 | C12: Dorota Janiszewska | D12: Koszalin | E12: Hunt | F12: 194 | G12: 17 | H12: 6 | I12: 17 | J12: 15 | K12: 18 | L12: 24 | M12: 18 | N12: 22 | O12: 16 | P12: 17 | Q12: 0 | R12: 24 | S12: 16.166667 | T12: 5.3888889 | V12: 9 | W12: =C17 -> Dorota Janiszewska | X12: =(V17)/3 -> 14.666667 | Y12: =X12/3 -> 4.8888889 | AA12: =(F12+V17)/15 -> 15.866667 | AB12: =AA12/3 -> 5.2888889
S14: Średnia punktów / rundę | T14: Średnia punktów / strzałę
V15: Suma Punktów
B16: Miejsce | C16: Zawodnik | D16: SUMA | E16: Tarcza | F16: PKT | G16: Tarcza | H16: PKT | I16: Tarcza | J16: PKT | K16: Tarcza | L16: PKT | M16: Tarcza | N16: PKT | O16: Remis
B17: 9 | C17: Dorota Janiszewska | D17: =F17+H17+J17+L17+N17 -> 0 | E17: 6 | F17: 0 | G17: 14 | H17: 0 | I17: 24 | J17: 0 | S17: =V17/3 -> 14.666667 | T17: =S17/3 -> 4.8888889 | V17: =E17+G17+I17+K17+M17 -> 44
C18: Krzysztof "FAZIK" Brzeziński | D18: =F18+H18+J18+L18+N18 -> 6 | E18: 20 | F18: 2 | G18: 19 | H18: 2 | I18: 26 | J18: 2 | S18: =V18/3 -> 21.666667 | T18: =S18/3 -> 7.2222222 | V18: =E18+G18+I18+K18+M18 -> 65
C20: Krzysztof "FAZIK" Brzeziński | D20: =F20+H20+J20+L20+N20 -> 7 | E20: 16 | F20: 0 | G20: 15 | H20: 2 | I20: 24 | J20: 1 | K20: 15 | L20: 2 | M20: 22 | N20: 2 | S20: =V20/5 -> 18.4 | T20: =S20/3 -> 6.1333333 | V20: =E20+G20+I20+K20+M20 -> 92
B21: 8 | C21: Leszek "Haris" Jęczkowski | D21: =F21+H21+J21+L21+N21 -> 4 | E21: 20 | F21: 2 | G21: 14 | H21: 0 | I21: 24 | J21: 1 | K21: 0 | L21: 1 | M21: 6 | N21: 0 | S21: =V21/5 -> 12.8 | T21: =S21/3 -> 4.2666667 | V21: =E21+G21+I21+K21+M21 -> 64
B23: 7 | C23: Krzysztof "FAZIK" Brzeziński | D23: =F23+H23+J23+L23+N23 -> 2 | E23: 26 | F23: 2 | G23: 25 | H23: 0 | I23: 15 | J23: 0 | K23: 15 | L23: 0 | S23: =V23/4 -> 20.25 | T23: =S23/3 -> 6.75 | V23: =E23+G23+I23+K23+M23 -> 81
C24: Mateusz Jezierski | D24: =F24+H24+J24+L24+N24 -> 6 | E24: 25 | F24: 0 | G24: 26 | H24: 2 | I24: 16 | J24: 2 | K24: 22 | L24: 2 | S24: =V24/4 -> 22.25 | T24: =S24/3 -> 7.4166667 | V24: =E24+G24+I24+K24+M24 -> 89
B26: 6 | C26: Mateusz Jezierski | D26: =F26+H26+J26+L26+N26 -> 2 | E26: 23 | F26: 2 | G26: 13 | H26: 0 | I26: 17 | J26: 0 | K26: 13 | L26: 0 | S26: =V26/4 -> 16.5 | T26: =S26/3 -> 5.5 | V26: =E26+G26+I26+K26+M26 -> 66
C27: Robert "Stanley" Stańczyk | D27: =F27+H27+J27+L27+N27 -> 6 | E27: 22 | F27: 0 | G27: 23 | H27: 2 | I27: 23 | J27: 2 | K27: 16 | L27: 2 | S27: =V27/4 -> 21 | T27: =S27/3 -> 7 | V27: =E27+G27+I27+K27+M27 -> 84
B29: 5 | C29: Robert "Stanley" Stańczyk | D29: =F29+H29+J29+L29+N29 -> 2 | E29: 23 | F29: 0 | G29: 18 | H29: 0 | I29: 24 | J29: 2 | K29: 16 | L29: 0 | S29: =V29/4 -> 20.25 | T29: =S29/3 -> 6.75 | V29: =E29+G29+I29+K29+M29 -> 81
C30: Robert "Gata" Piechota | D30: =F30+H30+J30+L30+N30 -> 6 | E30: 25 | F30: 2 | G30: 24 | H30: 2 | I30: 22 | J30: 0 | K30: 26 | L30: 2 | S30: =V30/4 -> 24.25 | T30: =S30/3 -> 8.0833333 | V30: =E30+G30+I30+K30+M30 -> 97
B32: 4 | C32: Robert "Gata" Piechota | D32: =F32+H32+J32+L32+N32 -> 5 | E32: 21 | F32: 1 | G32: 14 | H32: 0 | I32: 26 | J32: 2 | K32: 8 | L32: 0 | M32: 29 | N32: 2 | O32: 9 | S32: =V32/5 -> 19.6 | T32: =S32/3 -> 6.5333333 | V32: =E32+G32+I32+K32+M32 -> 98
C33: Kostiantyn Fedotov | D33: =F33+H33+J33+L33+N33 -> 5 | E33: 21 | F33: 1 | G33: 25 | H33: 2 | I33: 24 | J33: 0 | K33: 24 | L33: 2 | M33: 13 | N33: 0 | O33: 16 | S33: =V33/5 -> 21.4 | T33: =S33/3 -> 7.1333333 | V33: =E33+G33+I33+K33+M33 -> 107
B35: 3 | C35: Kostiantyn Fedotov | D35: =F35+H35+J35+L35+N35 -> 4 | E35: 23 | F35: 2 | G35: 24 | H35: 0 | I35: 22 | J35: 0 | K35: 25 | L35: 2 | M35: 15 | N35: 0 | S35: =V35/5 -> 21.8 | T35: =S35/3 -> 7.2666667 | V35: =E35+G35+I35+K35+M35 -> 109
C36: Radosław "Shogun" Wiśniewski | D36: =F36+H36+J36+L36+N36 -> 6 | E36: 22 | F36: 0 | G36: 25 | H36: 2 | I36: 23 | J36: 2 | K36: 23 | L36: 0 | M36: 24 | N36: 2 | S36: =V36/5 -> 23.4 | T36: =S36/3 -> 7.8 | V36: =E36+G36+I36+K36+M36 -> 117
B38: 2 | C38: Radosław "Shogun" Wiśniewski | D38: =F38+H38+J38+L38+N38 -> 0 | E38: 6 | F38: 0 | G38: 16 | H38: 0 | I38: 12 | J38: 0 | S38: =V38/3 -> 11.333333 | T38: =S38/3 -> 3.7777778 | V38: =E38+G38+I38+K38+M38 -> 34
C39: Paweł Kikel | D39: =F39+H39+J39+L39+N39 -> 6 | E39: 29 | F39: 2 | G39: 27 | H39: 2 | I39: 27 | J39: 2 | S39: =V39/3 -> 27.666667 | T39: =S39/3 -> 9.2222222 | V39: =E39+G39+I39+K39+M39 -> 83
B41: 1 | C41: Paweł Kikel

Sheet Zasady
B1: Zasady:
B3: Mistrzostwa Klubowe. Mistrzostwa rozgrywane będą w Klubie Wojskowym w miesiącach Październik, Listopad i Grudzień. Wszystkie Turnieje będą rozgrywane z takimi samymi konkurencjami: Strzelamy do: Tarcza 3x 20cm Vegas, "10" polowa (punktacja Niebieskie = 6, Czerwone = 7-8, Żółte = 9-10 oraz X =11). Odległość ok 10 metrów. Zasady rankingowe: Strzelamy 12 kolejek rankingowych. Zawodnicy strzelają jednocześnie do dwóch mat czyli 4 tarcz (3x20cm). W każdej rundzie oddajemy 3 strzały, po jednym do każdej swojej tarczy 20cm. W przypadku trafienia więcej niż 1 raz w tą samą tarczę liczy się najgorszy wynik. W każdej następnej rundzie zawodnicy przesuwają się w prawo o 1 tarczę. W sumie w 4 rundach każdy wystrzeli 1 raz do każdej z 4 tarcz rozmieszczonych na 2 matach. Po 12 rundach (36 strzał) punkty są sumowane i powstaje tabelka wyników. Ewentualne remisy rozstrzyga liczba X (11) trafionych w eliminacjach. W przypadku ewentualnego remisu wygrywa ten kto trafił X (11) jako pierwszy. Jeśli i to było równoczesne decyduje kolejność zapisów na liście startowej.
B4: Po trzech miesiącach zmagań najlepszy wynik każdego obecnego zawodnika zostanie umieszczony w ostatecznej drabince rankingowej i zgodnie z nią odbędzie się ostateczny Turniej, w którym wyłonimy Mistrza Sekcji Łuczniczej Klubu Wojskowego 8 Pułku Przeciwlotniczego w Koszalinie, który otrzyma dyplom imienia pomysłodawcy - Edwarda Gajewskiego.
B5: Zasady eliminacyjne: Ostatnia osoba z rankingu pozostaje przy dowolnej macie. Osoba wyżej z rankingu podchodzi na tor. Osoba, która podchodzi ma wybór: 1) kto zaczyna lub: 2) wybiera matę i swoje pole startowe (tarczę). Druga osoba otrzymuje pozostałą opcję. Obie osoby muszą strzelać do tej samej maty. Dwójka strzela rundy eliminacyjne do 6 Dużych punktów. 1 Duży punkt zdobywa się za taką samą sumę punktową z 3 strzał w rundzie (remis). 2 Duże punkty za większą liczbę punktów w rundzie (wygrana). Osoba, która jako pierwsza uzyska 6 Dużych punktów pozostaje przy macie i czeka na kolejnego przeciwnika sklasyfikowanego wyżej w tabeli rankingowej. W przypadku remisów 5 punktów dostrzeliwuje się punktowaną strzałę. Wyższy wynik punktowy wygrywa i przechodzi dalej. W przypadku remisu strzela się kolejną punktowaną strzałę, w przypadku kolejnego remisu trzecią niepunktowaną strzałę. Zawodnik, którego trzecia strzała jest bliżej środka wygrywa i przechodzi dalej. Wygrywa ostatni, który pozostał. Pozostałe osoby są naturalnie sklasyfikowane tak jak zostawały pokonane w eliminacjach. Osoby, które nie są obecne w Grudniu zostają sklasyfikowane na miejscach kolejnych zgodnie ze swoim najlepszym wynikiem w Mistrzostwach Klubu.
B6: Bez rozgraniczenia kategorii ze względu na płeć, łuk, strzały czy styl strzelania. ZAKAZ używania spustów mechanicznych jak również celowników w dowolnej formie (sędzia decyduje czy linie na Twoim majdanie to celownik ...).
B7: https://kkr.nsc.pl/forum/viewtopic.php?f=21&t=3208&p=49828#p49828
