Workbook

Sheet WYNIKI
A1: Miejsce | B1: Zawodnik | C1: Skąd | D1: Łuk | F1: Najlepszy | H1: 1 | I1: 2 | J1: 3
A3: 1 | B3: Paweł Kikel | C3: Koszalin | D3: BB | E3: [b] | F3: =LARGE(H3:J3,1) -> 340 | G3: [/b] | I3: 340 | J3: 315
A4: 2 | B4: Donat Grotha | C4: Lębork | D4: BB | E4: [b] | F4: =LARGE(H4:J4,1) -> 302 | G4: [/b] | H4: 277 | J4: 302
A5: 3 | B5: Igor Adaszkiewicz | C5: Lębork | D5: Hunt | E5: [b] | F5: =LARGE(H5:J5,1) -> 294 | G5: [/b] | H5: 294 | J5: 224
A6: 4 | B6: Krzysztof "FAZIK" Brzeziński | C6: Koszalin | D6: BB | E6: [b] | F6: =LARGE(H6:J6,1) -> 278 | G6: [/b] | H6: 278 | I6: 274 | J6: 276
A7: 5 | B7: Mateusz Jezierski | C7: Koszalin | D7: Tz | E7: [b] | F7: =LARGE(H7:J7,1) -> 276 | G7: [/b] | I7: 257 | J7: 276
A8: 6 | B8: Robert "Gata" Piechota | C8: Koszalin | D8: Hunt | E8: [b] | F8: =LARGE(H8:J8,1) -> 271 | G8: [/b] | I8: 217 | J8: 271
A9: 7 | B9: Krzysztof "Madereiro" Piękniewski | C9: Koszalin | D9: BB | E9: [b] | F9: =LARGE(H9:J9,1) -> 269 | G9: [/b] | I9: 226 | J9: 269
A10: 8 | B10: Kostiantyn Fedotov | C10: Koszalin | D10: Tz | E10: [b] | F10: =LARGE(H10:J10,1) -> 246 | G10: [/b] | I10: 154 | J10: 246
A11: 9 | B11: Olaf Heinsch | C11: Mielno | D11: BB | E11: [b] | F11: =LARGE(H11:J11,1) -> 242 | G11: [/b] | J11: 242
A12: 10 | B12: Jerzy "Fala 133" Bohdziewicz | C12: Białogard | D12: BB | E12: [b] | F12: =LARGE(H12:J12,1) -> 240 | G12: [/b] | H12: 163 | I12: 240
A13: 11 | B13: Robert "Stanley" Stańczyk | C13: Koszalin | D13: T | E13: [b] | F13: =LARGE(H13:J13,1) -> 230 | G13: [/b] | J13: 230
A14: 12 | B14: Marzena Goike | C14: Lębork | D14: T | E14: [b] | F14: =LARGE(H14:J14,1) -> 225 | G14: [/b] | H14: 225 | J14: 202
A15: 13 | B15: Piotr Białecki | C15: Białogard | D15: T | E15: [b] | F15: =LARGE(H15:J15,1) -> 222 | G15: [/b] | H15: 222
A16: 14 | B16: Jan Kuciński | C16: Koszalin | D16: T | E16: [b] | F16: =LARGE(H16:J16,1) -> 212 | G16: [/b] | J16: 212
A17: 15 | B17: Dariusz Kułaga | C17: Darłowo | D17: Hunt | E17: [b] | F17: =LARGE(H17:J17,1) -> 207 | G17: [/b] | I17: 179 | J17: 207
A18: 16 | B18: Przemysław "Wizun" Wojciukiewicz | C18: Białogard | D18: Hunt | E18: [b] | F18: =LARGE(H18:J18,1) -> 200 | G18: [/b] | H18: 176 | I18: 200 | J18: 196
A19: 17 | B19: Jolanta "Fox" Lisowska | C19: Koszalin | D19: Hunt | E19: [b] | F19: =LARGE(H19:J19,1) -> 174 | G19: [/b] | I19: 174
A20: 18 | B20: Grzegorz "Wiking" Trzeciakiewicz | C20: Koszalin | D20: Hist | E20: [b] | F20: =LARGE(H20:J20,1) -> 162 | G20: [/b] | J20: 162
A21: 19 | B21: Wojciech Białecki | C21: Białogard | D21: Hunt | E21: [b] | F21: =LARGE(H21:J21,1) -> 157 | G21: [/b] | H21: 157
A22: 20 | B22: Katarzyna Kubiak | C22: Koszalin | D22: BB | E22: [b] | F22: =LARGE(H22:J22,1) -> 141 | G22: [/b] | I22: 141 | J22: 111
A23: 21 | B23: Dorota Janiszewska | C23: Koszalin | D23: T | E23: [b] | F23: =LARGE(H23:J23,1) -> 98 | G23: [/b] | J23: 98
A24: 22 | B24: Weronika Kojtka | C24: Koszalin | D24: Hunt | E24: [b] | F24: =LARGE(H24:J24,1) -> 97 | G24: [/b] | J24: 97
A25: 23 | B25: Iza Bohdziewicz | C25: Białogard | D25: T | E25: [b] | F25: =LARGE(H25:J25,1) -> 40 | G25: [/b] | J25: 40

Sheet 239 Grudzień
B1: Drabinka: | V1: Średnia punktów / rundę | X1: Średnia punktów /strzałę | AA1: Finał: | AF1: Drabinka + Finał
B2: Miejsce | C2: Zawodnik | D2: Skąd | E2: Łuk | G2: Suma | I2: 1 | J2: 2 | K2: 3 | L2: 4 | M2: 5 | N2: 6 | O2: 7 | P2: 8 | Q2: 9 | R2: 10 | S2: 11 | T2: 12 | AA2: Miejsce | AB2: Zawodnik | AC2: Średnia punktów / rundę | AD2: Średnia punktów /strzałę | AF2: Średnia punktów / rundę | AG2: Średnia punktów /strzałę
B4: 1 | C4: Paweł Kikel | D4: Koszalin | E4: BB | F4: [b] | G4: =SUM(I4:T4) -> 315 | H4: [/b]( | I4: 24 | J4: 28 | K4: 25 | L4: 26 | M4: 29 | N4: 29 | O4: 21 | P4: 25 | Q4: 28 | R4: 27 | S4: 26 | T4: 27 | U4: ) ( śr/runda | V4: =G4/12 -> 26.25 | W4: śr/strzała | X4: =V4/3 -> 8.75 | Y4: )[/color] | AA4: 1 | AB4: =C88 -> Paweł Kikel | AC4: =AD4*3 -> 23.25 | AD4: =AK88 -> 7.75 | AF4: =AG4*3 -> 25.5 | AG4: =AL88 -> 8.5
B5: 2 | C5: Donat Grotha | D5: Lębork | E5: BB | F5: [b] | G5: =SUM(I5:T5) -> 302 | H5: [/b]( | I5: 18 | J5: 27 | K5: 26 | L5: 29 | M5: 23 | N5: 27 | O5: 26 | P5: 25 | Q5: 26 | R5: 26 | S5: 24 | T5: 25 | U5: ) ( śr/runda | V5: =G5/12 -> 25.166667 | W5: śr/strzała | X5: =V5/3 -> 8.3888889 | Y5: )[/color] | AA5: 2 | AB5: =C5 -> Donat Grotha | AC5: =AD5*3 -> 21.666667 | AD5: =AK85 -> 7.2222222 | AF5: =AG5*3 -> 23.666667 | AG5: =AL85 -> 7.8888889
B6: 3 | C6: Krzysztof "FAZIK" Brzeziński | D6: Koszalin | E6: BB | F6: [b] | G6: =SUM(I6:T6) -> 276 | H6: [/b]( | I6: 16 | J6: 29 | K6: 17 | L6: 27 | M6: 27 | N6: 25 | O6: 25 | P6: 16 | Q6: 27 | R6: 23 | S6: 19 | T6: 25 | U6: ) ( śr/runda | V6: =G6/12 -> 23 | W6: śr/strzała | X6: =V6/3 -> 7.6666667 | Y6: )[/color] | AA6: 3 | AB6: =C6 -> Krzysztof "FAZIK" Brzeziński | AC6: =AD6*3 -> 22.583333 | AD6: =AK82 -> 7.5277778 | AF6: =AG6*3 -> 22.791667 | AG6: =AL82 -> 7.5972222
B7: 4 | C7: Mateusz Jezierski | D7: Koszalin | E7: Tz | F7: [b] | G7: =SUM(I7:T7) -> 276 | H7: [/b]( | I7: 28 | J7: 20 | K7: 19 | L7: 25 | M7: 16 | N7: 23 | O7: 25 | P7: 20 | Q7: 23 | R7: 24 | S7: 26 | T7: 27 | U7: ) ( śr/runda | V7: =G7/12 -> 23 | W7: śr/strzała | X7: =V7/3 -> 7.6666667 | Y7: )[/color] | AA7: 4 | AB7: =C13 -> Igor Adaszkiewicz | AC7: =AD7*3 -> 20.5 | AD7: =AK79 -> 6.8333333 | AF7: =AG7*3 -> 19.125 | AG7: =AL79 -> 6.375
B8: 5 | C8: Robert "Gata" Piechota | D8: Koszalin | E8: Hunt | F8: [b] | G8: =SUM(I8:T8) -> 271 | H8: [/b]( | I8: 24 | J8: 15 | K8: 23 | L8: 21 | M8: 25 | N8: 28 | O8: 23 | P8: 24 | Q8: 28 | R8: 22 | S8: 17 | T8: 21 | U8: ) ( śr/runda | V8: =G8/12 -> 22.583333 | W8: śr/strzała | X8: =V8/3 -> 7.5277778 | Y8: )[/color] | AA8: 5 | AB8: =C7 -> Mateusz Jezierski | AC8: =AD8*3 -> 20.333333 | AD8: =AK76 -> 6.7777778 | AF8: =AG8*3 -> 22.466667 | AG8: =AL76 -> 7.4888889
B9: 6 | C9: Krzysztof "Madereiro" Piękniewski | D9: Koszalin | E9: BB | F9: [b] | G9: =SUM(I9:T9) -> 269 | H9: [/b]( | I9: 28 | J9: 23 | K9: 19 | L9: 22 | M9: 25 | N9: 23 | O9: 25 | P9: 21 | Q9: 14 | R9: 22 | S9: 22 | T9: 25 | U9: ) ( śr/runda | V9: =G9/12 -> 22.416667 | W9: śr/strzała | X9: =V9/3 -> 7.4722222 | Y9: )[/color] | AA9: 6 | AB9: =C73 -> Robert "Gata" Piechota | AC9: =AD9*3 -> 21.5 | AD9: =AK73 -> 7.1666667 | AF9: =AG9*3 -> 22.090909 | AG9: =AL73 -> 7.3636364
B10: 7 | C10: Kostiantyn Fedotov | D10: Koszalin | E10: Tz | F10: [b] | G10: =SUM(I10:T10) -> 246 | H10: [/b]( | I10: 12 | J10: 24 | K10: 24 | L10: 24 | M10: 24 | N10: 23 | O10: 23 | P10: 7 | Q10: 23 | R10: 21 | S10: 19 | T10: 22 | U10: ) ( śr/runda | V10: =G10/12 -> 20.5 | W10: śr/strzała | X10: =V10/3 -> 6.8333333 | Y10: )[/color] | AA10: 7 | AB10: =C70 -> Kostiantyn Fedotov | AC10: =AD10*3 -> 21.909091 | AD10: =AK70 -> 7.3030303 | AF10: =AG10*3 -> 21.173913 | AG10: =AL70 -> 7.057971
B11: 8 | C11: Olaf Heinsch | D11: Mielno | E11: BB | F11: [b] | G11: =SUM(I11:T11) -> 242 | H11: [/b]( | I11: 25 | J11: 14 | K11: 24 | L11: 24 | M11: 22 | N11: 17 | O11: 25 | P11: 17 | Q11: 15 | R11: 26 | S11: 20 | T11: 13 | U11: ) ( śr/runda | V11: =G11/12 -> 20.166667 | W11: śr/strzała | X11: =V11/3 -> 6.7222222 | Y11: )[/color] | AA11: 8 | AB11: =C68 -> Krzysztof "Madereiro" Piękniewski | AC11: =AD11*3 -> 13 | AD11: =AK67 -> 4.3333333 | AF11: =AG11*3 -> 20.533333 | AG11: =AL67 -> 6.8444444
B12: 9 | C12: Robert "Stanley" Stańczyk | D12: Koszalin | E12: Tz | F12: [b] | G12: =SUM(I12:T12) -> 230 | H12: [/b]( | I12: 14 | J12: 25 | K12: 25 | L12: 12 | M12: 12 | N12: 20 | O12: 15 | P12: 26 | Q12: 19 | R12: 23 | S12: 17 | T12: 22 | U12: ) ( śr/runda | V12: =G12/12 -> 19.166667 | W12: śr/strzała | X12: =V12/3 -> 6.3888889 | Y12: )[/color] | AA12: 9 | AB12: =C64 -> Robert "Stanley" Stańczyk | AC12: =AD12*3 -> 19.769231 | AD12: =AK64 -> 6.5897436 | AF12: =AG12*3 -> 19.48 | AG12: =AL64 -> 6.4933333
B13: 10 | C13: Igor Adaszkiewicz | D13: Lębork | E13: Hunt | F13: [b] | G13: =SUM(I13:T13) -> 224 | H13: [/b]( | I13: 6 | J13: 8 | K13: 14 | L13: 18 | M13: 23 | N13: 20 | O13: 26 | P13: 25 | Q13: 7 | R13: 27 | S13: 24 | T13: 26 | U13: ) ( śr/runda | V13: =G13/12 -> 18.666667 | W13: śr/strzała | X13: =V13/3 -> 6.2222222 | Y13: )[/color] | AA13: 10 | AB13: =C62 -> Olaf Heinsch | AC13: =AD13*3 -> 18.4 | AD13: =AK61 -> 6.1333333 | AF13: =AG13*3 -> 19.647059 | AG13: =AL61 -> 6.5490196
B14: 11 | C14: Jan Kuciński | D14: Koszalin | E14: T | F14: [b] | G14: =SUM(I14:T14) -> 212 | H14: [/b]( | I14: 16 | J14: 14 | K14: 23 | L14: 16 | M14: 21 | N14: 24 | O14: 16 | P14: 20 | Q14: 13 | R14: 14 | S14: 17 | T14: 18 | U14: ) ( śr/runda | V14: =G14/12 -> 17.666667 | W14: śr/strzała | X14: =V14/3 -> 5.8888889 | Y14: )[/color] | AA14: 11 | AB14: =C58 -> Dariusz Kułaga | AC14: =AD14*3 -> 18.666667 | AD14: =AK58 -> 6.2222222 | AF14: =AG14*3 -> 17.857143 | AG14: =AL58 -> 5.952381
B15: 12 | C15: Dariusz Kułaga | D15: Darłowo | E15: Hunt | F15: [b] | G15: =SUM(I15:T15) -> 207 | H15: [/b]( | I15: 23 | J15: 17 | K15: 24 | L15: 14 | M15: 6 | N15: 15 | O15: 6 | P15: 19 | Q15: 15 | R15: 23 | S15: 24 | T15: 21 | U15: ) ( śr/runda | V15: =G15/12 -> 17.25 | W15: śr/strzała | X15: =V15/3 -> 5.75 | AA15: 12 | AB15: =C56 -> Marzena Goike | AC15: =AD15*3 -> 16.75 | AD15: =AK55 -> 5.5833333 | AF15: =AG15*3 -> 16.8125 | AG15: =AL55 -> 5.6041667
B16: 13 | C16: Marzena Goike | D16: Lębork | E16: T | F16: [b] | G16: =SUM(I16:T16) -> 202 | H16: [/b]( | I16: 8 | J16: 0 | K16: 20 | L16: 18 | M16: 24 | N16: 20 | O16: 19 | P16: 22 | Q16: 20 | R16: 17 | S16: 20 | T16: 14 | U16: ) ( śr/runda | V16: =G16/12 -> 16.833333 | W16: śr/strzała | X16: =V16/3 -> 5.6111111 | AA16: 13 | AB16: =C53 -> Jan Kuciński | AC16: =AD16*3 -> 17.25 | AD16: =AK52 -> 5.75 | AF16: =AG16*3 -> 17.5625 | AG16: =AL52 -> 5.8541667
B17: 14 | C17: Przemysław "Wizun" Wojciukiewicz | D17: Białogard | E17: Hunt | F17: [b] | G17: =SUM(I17:T17) -> 196 | H17: [/b]( | I17: 6 | J17: 9 | K17: 6 | L17: 24 | M17: 22 | N17: 13 | O17: 19 | P17: 25 | Q17: 20 | R17: 16 | S17: 10 | T17: 26 | U17: ) ( śr/runda | V17: =G17/12 -> 16.333333 | W17: śr/strzała | X17: =V17/3 -> 5.4444444 | AA17: 14 | AB17: =C49 -> Przemysław "Wizun" Wojciukiewicz | AC17: =AD17*3 -> 12.888889 | AD17: =AK49 -> 4.2962963 | AF17: =AG17*3 -> 14.857143 | AG17: =AL49 -> 4.952381
B18: 15 | C18: Grzegorz "Wiking" Trzeciakiewicz | D18: Koszalin | E18: Hist | F18: [b] | G18: =SUM(I18:T18) -> 162 | H18: [/b]( | I18: 21 | J18: 7 | K18: 7 | L18: 13 | M18: 17 | N18: 7 | O18: 6 | P18: 23 | Q18: 22 | R18: 15 | S18: 15 | T18: 9 | U18: ) ( śr/runda | V18: =G18/12 -> 13.5 | W18: śr/strzała | X18: =V18/3 -> 4.5 | AA18: 15 | AB18: =C46 -> Grzegorz "Wiking" Trzeciakiewicz | AC18: =AD18*3 -> 10.666667 | AD18: =AK46 -> 3.5555556 | AF18: =AG18*3 -> 12.285714 | AG18: =AL46 -> 4.0952381
B19: 16 | C19: Katarzyna Kubiak | D19: Koszalin | E19: BB | F19: [b] | G19: =SUM(I19:T19) -> 111 | H19: [/b]( | I19: 6 | J19: 9 | K19: 6 | L19: 7 | M19: 7 | N19: 0 | O19: 15 | P19: 14 | Q19: 12 | R19: 6 | S19: 15 | T19: 14 | U19: ) ( śr/runda | V19: =G19/12 -> 9.25 | W19: śr/strzała | X19: =V19/3 -> 3.0833333 | AA19: 16 | AB19: =C43 -> Weronika Kojtka | AC19: =AD19*3 -> 9.0666667 | AD19: =AK43 -> 3.0222222 | AF19: =AG19*3 -> 8.6296296 | AG19: =AL43 -> 2.8765432
B20: 17 | C20: Dorota Janiszewska | D20: Koszalin | E20: T | F20: [b] | G20: =SUM(I20:T20) -> 98 | H20: [/b]( | I20: 7 | J20: 0 | K20: 9 | L20: 6 | M20: 20 | N20: 12 | O20: 7 | P20: 6 | Q20: 9 | R20: 6 | S20: 6 | T20: 10 | U20: ) ( śr/runda | V20: =G20/12 -> 8.1666667 | W20: śr/strzała | X20: =V20/3 -> 2.7222222 | AA20: 17 | AB20: =C41 -> Katarzyna Kubiak | AC20: =AD20*3 -> 10.5 | AD20: =AK40 -> 3.5 | AF20: =AG20*3 -> 9.5625 | AG20: =AL40 -> 3.1875
B21: 18 | C21: Weronika Kojtka | D21: Koszalin | E21: Hunt | F21: [b] | G21: =SUM(I21:T21) -> 97 | H21: [/b]( | I21: 6 | J21: 7 | K21: 13 | L21: 6 | M21: 0 | N21: 6 | O21: 13 | P21: 9 | Q21: 14 | R21: 6 | S21: 10 | T21: 7 | U21: ) ( śr/runda | V21: =G21/12 -> 8.0833333 | W21: śr/strzała | X21: =V21/3 -> 2.6944444 | AA21: 18 | AB21: =C38 -> Dorota Janiszewska | AC21: =AD21*3 -> 11 | AD21: =AK37 -> 3.6666667 | AF21: =AG21*3 -> 8.7333333 | AG21: =AL37 -> 2.9111111
B22: 19 | C22: Iza Bohdziewicz | D22: Białogard | E22: BB | F22: [b] | G22: =SUM(I22:T22) -> 37 | H22: [/b]( | I22: 8 | J22: 0 | K22: 6 | L22: 0 | M22: 0 | N22: 0 | O22: 0 | P22: 0 | Q22: 10 | R22: 0 | S22: 6 | T22: 7 | U22: ) ( śr/runda | V22: =G22/12 -> 3.0833333 | W22: śr/strzała | X22: =V22/3 -> 1.0277778 | AA22: 19 | AB22: =C34 -> Iza Bohdziewicz | AC22: =AD22*3 -> 6 | AD22: =AK34 -> 2 | AF22: =AG22*3 -> 3.8125 | AG22: =AL34 -> 1.2708333
B24: Tarcza Halowa Fita Vegas 3x 20cm, "10" polowa (punktacja Niebieskie = 6, Czerwone = 7-8, Żółte = 9-10 oraz X =10).
B25: Zawodnicy strzelają do dwóch mat czyli 4 tarcz jednocześnie. W każdej rundzie oddajemy 3 strzały, po jednym do każdej swojej tarczy. Po każdej rundzie przesuwają się w prawo o 1 tarczę.
B26: Po 4 rundach punkty są sumowane i powstaje tabelka rankingowa. Remisy rostrzyga liczba X trafionych w eliminacjach.
B27: Ostatnia osoba zostaje przy macie. Osoba wyżej podchodzi do przeciwnika. Osoba, która podchodzi ma wybór: kto zaczyna, albo wybiera matę i pole startowe. Druga osoba otrzymuje pozostałą opcję do wyboru.
B28: Dwójka strzela rundy do 6 Dużych punktów. 1 punkt zdobywa się za taką samą sumę punktową z 3 strzał w rundzie. 2 punkty za większą liczbę punktów w rundzie.
B29: W przypadku remisów 5 punktów dostrzeliwuje się punktowaną strzałę. Wyższy wynik wygrywa i przechodzi dalej. W przypadku remisu strzela się kolejną strzałę, w przypadku kolejnego remisu trzecią niepunktowaną strzałę. Zawodnik, którego trzecia strzała jest bliżej środka wygrywa i przechodzi dalej.
B31: Wygrywa ostatni, który pozostał. | V31: Średnia punktów / rundę | X31: Średnia punktów / strzałę
AA32: Suma Punktów
B33: Miejsce | C33: Zawodnik | D33: SUMA | E33: Tarcza | G33: PKT | I33: Tarcza | J33: PKT | K33: Tarcza | L33: PKT | M33: Tarcza | N33: PKT | O33: Tarcza | P33: PKT | Q33: Remis | AE33: R | AF33: SF | AG33: SS | AH33: PF | AI33: PD | AJ33: PS
B34: 19 | C34: Iza Bohdziewicz | D34: =G34+J34+L34+N34+P34 -> 2 | E34: 7 | G34: 2 | I34: 8 | J34: 0 | K34: 9 | L34: 0 | M34: 0 | N34: 0 | V34: =(AA34/(AC34*3))*3 -> 6 | X34: =V34/3 -> 2 | AA34: ='239 Grudzień'!E34+'239 Grudzień'!I34+'239 Grudzień'!K34+'239 Grudzień'!M34+'239 Grudzień'!O34+'239 Grudzień'!Q34 -> 24 | AC34: =COUNTA(E34,I34,K34,M34,O34) -> 4 | AD34: =(AC34*3)+AE34 -> 12 | AF34: =AG34-36 -> 12 | AG34: =36+AD34 -> 48 | AH34: =AA34 -> 24 | AI34: =G22 -> 37 | AJ34: =AH34+AI34 -> 61 | AK34: =AH34/AF34 -> 2 | AL34: =AJ34/AG34 -> 1.2708333 | AM34: 19
C35: Weronika Kojtka | D35: =G35+J35+L35+N35+P35 -> 6 | E35: 0 | G35: 0 | I35: 9 | J35: 2 | K35: 15 | L35: 2 | M35: 13 | N35: 2 | V35: =(AA35/(AC35*3))*3 -> 9.25 | X35: =V35/3 -> 3.0833333 | AA35: ='239 Grudzień'!E35+'239 Grudzień'!I35+'239 Grudzień'!K35+'239 Grudzień'!M35+'239 Grudzień'!O35+'239 Grudzień'!Q35 -> 37 | AC35: =COUNTA(E35,I35,K35,M35,O35) -> 4 | AD35: =(AC35*3)+AE35 -> 12
C37: Weronika Kojtka | D37: =G37+J37+L37+N37+P37 -> 6 | E37: 15 | G37: 2 | I37: 15 | J37: 2 | K37: 15 | L37: 2 | V37: =(AA37/(AC37*3))*3 -> 15 | X37: =V37/3 -> 5 | AA37: ='239 Grudzień'!E37+'239 Grudzień'!I37+'239 Grudzień'!K37+'239 Grudzień'!M37+'239 Grudzień'!O37+'239 Grudzień'!Q37 -> 45 | AC37: =COUNTA(E37,I37,K37,M37,O37) -> 3 | AD37: =(AC37*3)+AE37 -> 9 | AF37: =AG37-36 -> 9 | AG37: =36+AD38 -> 45 | AH37: =AA38 -> 33 | AI37: =G20 -> 98 | AJ37: =AH37+AI37 -> 131 | AK37: =AH37/AF37 -> 3.6666667 | AL37: =AJ37/AG37 -> 2.9111111 | AM37: 18
B38: 18 | C38: Dorota Janiszewska | D38: =G38+J38+L38+N38+P38 -> 0 | E38: 14 | G38: 0 | I38: 12 | J38: 0 | K38: 7 | L38: 0 | V38: =(AA38/(AC38*3))*3 -> 11 | X38: =V38/3 -> 3.6666667 | AA38: ='239 Grudzień'!E38+'239 Grudzień'!I38+'239 Grudzień'!K38+'239 Grudzień'!M38+'239 Grudzień'!O38+'239 Grudzień'!Q38 -> 33 | AC38: =COUNTA(E38,I38,K38,M38,O38) -> 3 | AD38: =(AC38*3)+AE38 -> 9
C40: Weronika Kojtka | D40: =G40+J40+L40+N40+P40 -> 6 | E40: 6 | G40: 0 | I40: 7 | J40: 2 | K40: 7 | L40: 2 | M40: 13 | N40: 2 | V40: =(AA40/(AC40*3))*3 -> 8.25 | X40: =V40/3 -> 2.75 | AA40: ='239 Grudzień'!E40+'239 Grudzień'!I40+'239 Grudzień'!K40+'239 Grudzień'!M40+'239 Grudzień'!O40+'239 Grudzień'!Q40 -> 33 | AC40: =COUNTA(E40,I40,K40,M40,O40) -> 4 | AD40: =(AC40*3)+AE40 -> 12 | AF40: =AG40-36 -> 12 | AG40: =36+AD40 -> 48 | AH40: =AA41 -> 42 | AI40: =G19 -> 111 | AJ40: =AH40+AI40 -> 153 | AK40: =AH40/AF40 -> 3.5 | AL40: =AJ40/AG40 -> 3.1875 | AM40: 17
B41: 17 | C41: Katarzyna Kubiak | D41: =G41+J41+L41+N41+P41 -> 2 | E41: 21 | G41: 2 | I41: 6 | J41: 0 | K41: 6 | L41: 0 | M41: 9 | N41: 0 | V41: =(AA41/(AC41*3))*3 -> 10.5 | X41: =V41/3 -> 3.5 | AA41: ='239 Grudzień'!E41+'239 Grudzień'!I41+'239 Grudzień'!K41+'239 Grudzień'!M41+'239 Grudzień'!O41+'239 Grudzień'!Q41 -> 42 | AC41: =COUNTA(E41,I41,K41,M41,O41) -> 4 | AD41: =(AC41*3)+AE41 -> 12
B43: 16 | C43: Weronika Kojtka | D43: =G43+J43+L43+N43+P43 -> 2 | E43: 0 | G43: 0 | I43: 6 | J43: 0 | K43: 7 | L43: 2 | M43: 8 | N43: 0 | V43: =(AA43/(AC43*3))*3 -> 5.25 | X43: =V43/3 -> 1.75 | AA43: ='239 Grudzień'!E43+'239 Grudzień'!I43+'239 Grudzień'!K43+'239 Grudzień'!M43+'239 Grudzień'!O43+'239 Grudzień'!Q43 -> 21 | AC43: =COUNTA(E43,I43,K43,M43,O43) -> 4 | AD43: =(AC43*3)+AE43 -> 12 | AF43: =AG43-36 -> 45 | AG43: =36+AD35+AD43+AD40+AD38 -> 81 | AH43: =AA35+AA40+AA43+AA37 -> 136 | AI43: =G21 -> 97 | AJ43: =AH43+AI43 -> 233 | AK43: =AH43/AF43 -> 3.0222222 | AL43: =AJ43/AG43 -> 2.8765432 | AM43: 16
C44: Grzegorz "Wiking" Trzeciakiewicz | D44: =G44+J44+L44+N44+P44 -> 6 | E44: 7 | G44: 2 | I44: 7 | J44: 2 | K44: 6 | L44: 0 | M44: 16 | N44: 2 | V44: =(AA44/(AC44*3))*3 -> 9 | X44: =V44/3 -> 3 | AA44: ='239 Grudzień'!E44+'239 Grudzień'!I44+'239 Grudzień'!K44+'239 Grudzień'!M44+'239 Grudzień'!O44+'239 Grudzień'!Q44 -> 36 | AC44: =COUNTA(E44,I44,K44,M44,O44) -> 4 | AD44: =(AC44*3)+AE44 -> 12
B46: 15 | C46: Grzegorz "Wiking" Trzeciakiewicz | D46: =G46+J46+L46+N46+P46 -> 4 | E46: 6 | G46: 0 | I46: 12 | J46: 2 | K46: 23 | L46: 2 | M46: 12 | N46: 0 | O46: 7 | P46: 0 | V46: =(AA46/(AC46*3))*3 -> 12 | X46: =V46/3 -> 4 | AA46: ='239 Grudzień'!E46+'239 Grudzień'!I46+'239 Grudzień'!K46+'239 Grudzień'!M46+'239 Grudzień'!O46+'239 Grudzień'!Q46 -> 60 | AC46: =COUNTA(E46,I46,K46,M46,O46) -> 5 | AD46: =(AC46*3)+AE46 -> 15 | AF46: =AG46-36 -> 27 | AG46: =36+AD46+AD43 -> 63 | AH46: =AA44+AA46 -> 96 | AI46: =G18 -> 162 | AJ46: =AH46+AI46 -> 258 | AK46: =AH46/AF46 -> 3.5555556 | AL46: =AJ46/AG46 -> 4.0952381 | AM46: 15
C47: Przemysław "Wizun" Wojciukiewicz | D47: =G47+J47+L47+N47+P47 -> 6 | E47: 22 | G47: 2 | I47: 6 | J47: 0 | K47: 15 | L47: 0 | M47: 14 | N47: 2 | O47: 16 | P47: 2 | V47: =(AA47/(AC47*3))*3 -> 14.6 | X47: =V47/3 -> 4.8666667 | AA47: ='239 Grudzień'!E47+'239 Grudzień'!I47+'239 Grudzień'!K47+'239 Grudzień'!M47+'239 Grudzień'!O47+'239 Grudzień'!Q47 -> 73 | AC47: =COUNTA(E47,I47,K47,M47,O47) -> 5 | AD47: =(AC47*3)+AE47 -> 15
B49: 14 | C49: Przemysław "Wizun" Wojciukiewicz | D49: =G49+J49+L49+N49+P49 -> 2 | E49: 7 | G49: 0 | I49: 14 | J49: 2 | K49: 7 | L49: 0 | M49: 15 | N49: 0 | V49: =(AA49/(AC49*3))*3 -> 10.75 | X49: =V49/3 -> 3.5833333 | AA49: ='239 Grudzień'!E49+'239 Grudzień'!I49+'239 Grudzień'!K49+'239 Grudzień'!M49+'239 Grudzień'!O49+'239 Grudzień'!Q49 -> 43 | AC49: =COUNTA(E49,I49,K49,M49,O49) -> 4 | AD49: =(AC49*3)+AE49 -> 12 | AF49: =AG49-36 -> 27 | AG49: =36+AD47+AD49 -> 63 | AH49: =AA47+AA49 -> 116 | AI49: =G17 -> 196 | AJ49: =AH49+AI49 -> 312 | AK49: =AH49/AF49 -> 4.2962963 | AL49: =AJ49/AG49 -> 4.952381 | AM49: 14
C50: Dariusz Kułaga | D50: =G50+J50+L50+N50+P50 -> 6 | E50: 18 | G50: 2 | I50: 8 | J50: 0 | K50: 15 | L50: 2 | M50: 16 | N50: 2 | V50: =(AA50/(AC50*3))*3 -> 14.25 | X50: =V50/3 -> 4.75 | AA50: ='239 Grudzień'!E50+'239 Grudzień'!I50+'239 Grudzień'!K50+'239 Grudzień'!M50+'239 Grudzień'!O50+'239 Grudzień'!Q50 -> 57 | AC50: =COUNTA(E50,I50,K50,M50,O50) -> 4 | AD50: =(AC50*3)+AE50 -> 12
C52: Dariusz Kułaga | D52: =G52+J52+L52+N52+P52 -> 6 | E52: 24 | G52: 0 | I52: 16 | J52: 2 | K52: 23 | L52: 2 | M52: 30 | N52: 2 | V52: =(AA52/(AC52*3))*3 -> 23.25 | X52: =V52/3 -> 7.75 | AA52: ='239 Grudzień'!E52+'239 Grudzień'!I52+'239 Grudzień'!K52+'239 Grudzień'!M52+'239 Grudzień'!O52+'239 Grudzień'!Q52 -> 93 | AC52: =COUNTA(E52,I52,K52,M52,O52) -> 4 | AD52: =(AC52*3)+AE52 -> 12 | AF52: =AG52-36 -> 12 | AG52: =36+AD53 -> 48 | AH52: =AA53 -> 69 | AI52: =G14 -> 212 | AJ52: =AH52+AI52 -> 281 | AK52: =AH52/AF52 -> 5.75 | AL52: =AJ52/AG52 -> 5.8541667 | AM52: 13
B53: 13 | C53: Jan Kuciński | D53: =G53+J53+L53+N53+P53 -> 2 | E53: 25 | G53: 2 | I53: 15 | J53: 0 | K53: 22 | L53: 0 | M53: 7 | N53: 0 | V53: =(AA53/(AC53*3))*3 -> 17.25 | X53: =V53/3 -> 5.75 | AA53: ='239 Grudzień'!E53+'239 Grudzień'!I53+'239 Grudzień'!K53+'239 Grudzień'!M53+'239 Grudzień'!O53+'239 Grudzień'!Q53 -> 69 | AC53: =COUNTA(E53,I53,K53,M53,O53) -> 4 | AD53: =(AC53*3)+AE53 -> 12
C55: Dariusz Kułaga | D55: =G55+J55+L55+N55+P55 -> 6 | E55: 17 | G55: 2 | I55: 20 | J55: 0 | K55: 25 | L55: 2 | M55: 16 | N55: 2 | V55: =(AA55/(AC55*3))*3 -> 19.5 | X55: =V55/3 -> 6.5 | AA55: ='239 Grudzień'!E55+'239 Grudzień'!I55+'239 Grudzień'!K55+'239 Grudzień'!M55+'239 Grudzień'!O55+'239 Grudzień'!Q55 -> 78 | AC55: =COUNTA(E55,I55,K55,M55,O55) -> 4 | AD55: =(AC55*3)+AE55 -> 12 | AF55: =AG55-36 -> 12 | AG55: =36+AD56 -> 48 | AH55: =AA56 -> 67 | AI55: =G16 -> 202 | AJ55: =AH55+AI55 -> 269 | AK55: =AH55/AF55 -> 5.5833333 | AL55: =AJ55/AG55 -> 5.6041667 | AM55: 12
B56: 12 | C56: Marzena Goike | D56: =G56+J56+L56+N56+P56 -> 2 | E56: 9 | G56: 0 | I56: 22 | J56: 2 | K56: 23 | L56: 0 | M56: 13 | N56: 0 | V56: =(AA56/(AC56*3))*3 -> 16.75 | X56: =V56/3 -> 5.5833333 | AA56: ='239 Grudzień'!E56+'239 Grudzień'!I56+'239 Grudzień'!K56+'239 Grudzień'!M56+'239 Grudzień'!O56+'239 Grudzień'!Q56 -> 67 | AC56: =COUNTA(E56,I56,K56,M56,O56) -> 4 | AD56: =(AC56*3)+AE56 -> 12
B58: 11 | C58: Dariusz Kułaga | D58: =G58+J58+L58+N58+P58 -> 3 | E58: 20 | G58: 2 | I58: 23 | J58: 0 | K58: 23 | L58: 1 | M58: 8 | N58: 0 | O58: 16 | P58: 0 | V58: =(AA58/(AC58*3))*3 -> 18 | X58: =V58/3 -> 6 | AA58: ='239 Grudzień'!E58+'239 Grudzień'!I58+'239 Grudzień'!K58+'239 Grudzień'!M58+'239 Grudzień'!O58+'239 Grudzień'!Q58 -> 90 | AC58: =COUNTA(E58,I58,K58,M58,O58) -> 5 | AD58: =(AC58*3)+AE58 -> 15 | AF58: =AG58-36 -> 27 | AG58: =36+AD58+AD55 -> 63 | AH58: =AA55+AA58 -> 168 | AI58: =G15 -> 207 | AJ58: =AH58+AI58 -> 375 | AK58: =AH58/AF58 -> 6.2222222 | AL58: =AJ58/AG58 -> 5.952381 | AM58: 11
C59: Robert "Stanley" Stańczyk | D59: =G59+J59+L59+N59+P59 -> 7 | E59: 15 | G59: 0 | I59: 24 | J59: 2 | K59: 23 | L59: 1 | M59: 14 | N59: 2 | O59: 25 | P59: 2 | V59: =(AA59/(AC59*3))*3 -> 20.2 | X59: =V59/3 -> 6.7333333 | AA59: ='239 Grudzień'!E59+'239 Grudzień'!I59+'239 Grudzień'!K59+'239 Grudzień'!M59+'239 Grudzień'!O59+'239 Grudzień'!Q59 -> 101 | AC59: =COUNTA(E59,I59,K59,M59,O59) -> 5 | AD59: =(AC59*3)+AE59 -> 15
C61: Robert "Stanley" Stańczyk | D61: =G61+J61+L61+N61+P61 -> 6 | E61: 19 | G61: 0 | I61: 27 | J61: 2 | K61: 18 | L61: 2 | M61: 14 | N61: 0 | O61: 25 | P61: 2 | V61: =(AA61/(AC61*3))*3 -> 20.6 | X61: =V61/3 -> 6.8666667 | AA61: ='239 Grudzień'!E61+'239 Grudzień'!I61+'239 Grudzień'!K61+'239 Grudzień'!M61+'239 Grudzień'!O61+'239 Grudzień'!Q61 -> 103 | AC61: =COUNTA(E61,I61,K61,M61,O61) -> 5 | AD61: =(AC61*3)+AE61 -> 15 | AF61: =AG61-36 -> 15 | AG61: =36+AD62 -> 51 | AH61: =AA62 -> 92 | AI61: =G11 -> 242 | AJ61: =AH61+AI61 -> 334 | AK61: =AH61/AF61 -> 6.1333333 | AL61: =AJ61/AG61 -> 6.5490196 | AM61: 10
B62: 10 | C62: Olaf Heinsch | D62: =G62+J62+L62+N62+P62 -> 4 | E62: 22 | G62: 2 | I62: 17 | J62: 0 | K62: 14 | L62: 0 | M62: 23 | N62: 2 | O62: 16 | P62: 0 | V62: =(AA62/(AC62*3))*3 -> 18.4 | X62: =V62/3 -> 6.1333333 | AA62: ='239 Grudzień'!E62+'239 Grudzień'!I62+'239 Grudzień'!K62+'239 Grudzień'!M62+'239 Grudzień'!O62+'239 Grudzień'!Q62 -> 92 | AC62: =COUNTA(E62,I62,K62,M62,O62) -> 5 | AD62: =(AC62*3)+AE62 -> 15
B64: 9 | C64: Robert "Stanley" Stańczyk | D64: =G64+J64+L64+N64+P64 -> 0 | E64: 22 | G64: 0 | I64: 18 | J64: 0 | K64: 13 | L64: 0 | V64: =(AA64/(AC64*3))*3 -> 17.666667 | X64: =V64/3 -> 5.8888889 | AA64: ='239 Grudzień'!E64+'239 Grudzień'!I64+'239 Grudzień'!K64+'239 Grudzień'!M64+'239 Grudzień'!O64+'239 Grudzień'!Q64 -> 53 | AC64: =COUNTA(E64,I64,K64,M64,O64) -> 3 | AD64: =(AC64*3)+AE64 -> 9 | AF64: =AG64-36 -> 39 | AG64: =36+AD59+AD61+AD64 -> 75 | AH64: =AA59+AA61+AA64 -> 257 | AI64: =G12 -> 230 | AJ64: =AH64+AI64 -> 487 | AK64: =AH64/AF64 -> 6.5897436 | AL64: =AJ64/AG64 -> 6.4933333 | AM64: 9
C65: Kostiantyn Fedotov | D65: =G65+J65+L65+N65+P65 -> 6 | E65: 26 | G65: 2 | I65: 24 | J65: 2 | K65: 23 | L65: 2 | V65: =(AA65/(AC65*3))*3 -> 24.333333 | X65: =V65/3 -> 8.1111111 | AA65: ='239 Grudzień'!E65+'239 Grudzień'!I65+'239 Grudzień'!K65+'239 Grudzień'!M65+'239 Grudzień'!O65+'239 Grudzień'!Q65 -> 73 | AC65: =COUNTA(E65,I65,K65,M65,O65) -> 3 | AD65: =(AC65*3)+AE65 -> 9
C67: Kostiantyn Fedotov | D67: =G67+J67+L67+N67+P67 -> 6 | E67: 25 | G67: 2 | I67: 25 | J67: 2 | K67: 18 | L67: 2 | V67: =(AA67/(AC67*3))*3 -> 22.666667 | X67: =V67/3 -> 7.5555556 | AA67: ='239 Grudzień'!E67+'239 Grudzień'!I67+'239 Grudzień'!K67+'239 Grudzień'!M67+'239 Grudzień'!O67+'239 Grudzień'!Q67 -> 68 | AC67: =COUNTA(E67,I67,K67,M67,O67) -> 3 | AD67: =(AC67*3)+AE67 -> 9 | AF67: =AG67-36 -> 9 | AG67: =36+AD67 -> 45 | AH67: =AA68 -> 39 | AI67: =G9 -> 269 | AJ67: =AH67+AI67 -> 308 | AK67: =AH67/AF67 -> 4.3333333 | AL67: =AJ67/AG67 -> 6.8444444 | AM67: 8
B68: 8 | C68: Krzysztof "Madereiro" Piękniewski | D68: =G68+J68+L68+N68+P68 -> 0 | E68: 8 | G68: 0 | I68: 23 | J68: 0 | K68: 8 | L68: 0 | V68: =(AA68/(AC68*3))*3 -> 13 | X68: =V68/3 -> 4.3333333 | AA68: ='239 Grudzień'!E68+'239 Grudzień'!I68+'239 Grudzień'!K68+'239 Grudzień'!M68+'239 Grudzień'!O68+'239 Grudzień'!Q68 -> 39 | AC68: =COUNTA(E68,I68,K68,M68,O68) -> 3 | AD68: =(AC68*3)+AE68 -> 9
B70: 7 | C70: Kostiantyn Fedotov | D70: =G70+J70+L70+N70+P70 -> 4 | E70: 17 | G70: 0 | I70: 22 | J70: 2 | K70: 23 | L70: 2 | M70: 15 | N70: 0 | O70: 23 | P70: 0 | V70: =(AA70/(AC70*3))*3 -> 20 | X70: =V70/3 -> 6.6666667 | AA70: ='239 Grudzień'!E70+'239 Grudzień'!I70+'239 Grudzień'!K70+'239 Grudzień'!M70+'239 Grudzień'!O70+'239 Grudzień'!Q70 -> 100 | AC70: =COUNTA(E70,I70,K70,M70,O70) -> 5 | AD70: =(AC70*3)+AE70 -> 15 | AF70: =AG70-36 -> 33 | AG70: =36+AD65+AD68+AD70 -> 69 | AH70: =AA65+AA67+AA70 -> 241 | AI70: =G10 -> 246 | AJ70: =AH70+AI70 -> 487 | AK70: =AH70/AF70 -> 7.3030303 | AL70: =AJ70/AG70 -> 7.057971 | AM70: 7
C71: Robert "Gata" Piechota | D71: =G71+J71+L71+N71+P71 -> 6 | E71: 25 | G71: 2 | I71: 20 | J71: 0 | K71: 21 | L71: 0 | M71: 28 | N71: 2 | O71: 24 | P71: 2 | V71: =(AA71/(AC71*3))*3 -> 23.6 | X71: =V71/3 -> 7.8666667 | AA71: ='239 Grudzień'!E71+'239 Grudzień'!I71+'239 Grudzień'!K71+'239 Grudzień'!M71+'239 Grudzień'!O71+'239 Grudzień'!Q71 -> 118 | AC71: =COUNTA(E71,I71,K71,M71,O71) -> 5 | AD71: =(AC71*3)+AE71 -> 15
B73: 6 | C73: Robert "Gata" Piechota | D73: =G73+J73+L73+N73+P73 -> 4 | E73: 22 | G73: 2 | I73: 23 | J73: 0 | K73: 14 | L73: 0 | M73: 23 | N73: 2 | O73: 15 | P73: 0 | V73: =(AA73/(AC73*3))*3 -> 19.4 | X73: =V73/3 -> 6.4666667 | AA73: ='239 Grudzień'!E73+'239 Grudzień'!I73+'239 Grudzień'!K73+'239 Grudzień'!M73+'239 Grudzień'!O73+'239 Grudzień'!Q73 -> 97 | AC73: =COUNTA(E73,I73,K73,M73,O73) -> 5 | AD73: =(AC73*3)+AE73 -> 15 | AF73: =AG73-36 -> 30 | AG73: =36+AD71+AD73 -> 66 | AH73: =AA71+AA73 -> 215 | AI73: =G8 -> 271 | AJ73: =AH73+AI73 -> 486 | AK73: =AH73/AF73 -> 7.1666667 | AL73: =AJ73/AG73 -> 7.3636364 | AM73: 6
C74: Mateusz Jezierski | D74: =G74+J74+L74+N74+P74 -> 6 | E74: 14 | G74: 0 | I74: 7 | J74: 2 | K74: 17 | L74: 2 | M74: 16 | N74: 0 | O74: 21 | P74: 2 | V74: =(AA74/(AC74*3))*3 -> 15 | X74: =V74/3 -> 5 | AA74: ='239 Grudzień'!E74+'239 Grudzień'!I74+'239 Grudzień'!K74+'239 Grudzień'!M74+'239 Grudzień'!O74+'239 Grudzień'!Q74 -> 75 | AC74: =COUNTA(E74,I74,K74,M74,O74) -> 5 | AD74: =(AC74*3)+AE74 -> 15
B76: 5 | C76: Mateusz Jezierski | D76: =G76+J76+L76+N76+P76 -> 0 | E76: 23 | G76: 0 | I76: 13 | J76: 0 | K76: 25 | L76: 0 | V76: =(AA76/(AC76*3))*3 -> 20.333333 | X76: =V76/3 -> 6.7777778 | AA76: ='239 Grudzień'!E76+'239 Grudzień'!I76+'239 Grudzień'!K76+'239 Grudzień'!M76+'239 Grudzień'!O76+'239 Grudzień'!Q76 -> 61 | AC76: =COUNTA(E76,I76,K76,M76,O76) -> 3 | AD76: =(AC76*3)+AE76 -> 9 | AF76: =AG76-36 -> 9 | AG76: =36+AD76 -> 45 | AH76: =AA76 -> 61 | AI76: =G7 -> 276 | AJ76: =AH76+AI76 -> 337 | AK76: =AH76/AF76 -> 6.7777778 | AL76: =AJ76/AG76 -> 7.4888889 | AM76: 5
C77: Krzysztof "FAZIK" Brzeziński | D77: =G77+J77+L77+N77+P77 -> 6 | E77: 24 | G77: 2 | I77: 18 | J77: 2 | K77: 28 | L77: 2 | V77: =(AA77/(AC77*3))*3 -> 23.333333 | X77: =V77/3 -> 7.7777778 | AA77: ='239 Grudzień'!E77+'239 Grudzień'!I77+'239 Grudzień'!K77+'239 Grudzień'!M77+'239 Grudzień'!O77+'239 Grudzień'!Q77 -> 70 | AC77: =COUNTA(E77,I77,K77,M77,O77) -> 3 | AD77: =(AC77*3)+AE77 -> 9
C79: Krzysztof "FAZIK" Brzeziński | D79: =G79+J79+L79+N79+P79 -> 7 | E79: 24 | G79: 2 | I79: 24 | J79: 1 | K79: 22 | L79: 2 | M79: 26 | N79: 2 | V79: =(AA79/(AC79*3))*3 -> 24 | X79: =V79/3 -> 8 | AA79: ='239 Grudzień'!E79+'239 Grudzień'!I79+'239 Grudzień'!K79+'239 Grudzień'!M79+'239 Grudzień'!O79+'239 Grudzień'!Q79 -> 96 | AC79: =COUNTA(E79,I79,K79,M79,O79) -> 4 | AD79: =(AC79*3)+AE79 -> 12 | AF79: =AG79-36 -> 12 | AG79: =36+AD79 -> 48 | AH79: =AA80 -> 82 | AI79: =G13 -> 224 | AJ79: =AH79+AI79 -> 306 | AK79: =AH79/AF79 -> 6.8333333 | AL79: =AJ79/AG79 -> 6.375 | AM79: 4
B80: 4 | C80: Igor Adaszkiewicz | D80: =G80+J80+L80+N80+P80 -> 1 | E80: 14 | G80: 0 | I80: 24 | J80: 1 | K80: 19 | L80: 0 | M80: 25 | N80: 0 | V80: =(AA80/(AC80*3))*3 -> 20.5 | X80: =V80/3 -> 6.8333333 | AA80: ='239 Grudzień'!E80+'239 Grudzień'!I80+'239 Grudzień'!K80+'239 Grudzień'!M80+'239 Grudzień'!O80+'239 Grudzień'!Q80 -> 82 | AC80: =COUNTA(E80,I80,K80,M80,O80) -> 4 | AD80: =(AC80*3)+AE80 -> 12
B82: 3 | C82: Krzysztof "FAZIK" Brzeziński | D82: =G82+J82+L82+N82+P82 -> 4 | E82: 24 | G82: 2 | I82: 18 | J82: 0 | K82: 24 | L82: 0 | M82: 24 | N82: 2 | O82: 15 | P82: 0 | V82: =(AA82/(AC82*3))*3 -> 21 | X82: =V82/3 -> 7 | AA82: ='239 Grudzień'!E82+'239 Grudzień'!I82+'239 Grudzień'!K82+'239 Grudzień'!M82+'239 Grudzień'!O82+'239 Grudzień'!Q82 -> 105 | AC82: =COUNTA(E82,I82,K82,M82,O82) -> 5 | AD82: =(AC82*3)+AE82 -> 15 | AF82: =AG82-36 -> 36 | AG82: =36+AD77+AD80+AD83 -> 72 | AH82: =AA77+AA79+AA82 -> 271 | AI82: =G6 -> 276 | AJ82: =AH82+AI82 -> 547 | AK82: =AH82/AF82 -> 7.5277778 | AL82: =AJ82/AG82 -> 7.5972222 | AM82: 3
C83: Donat Grotha | D83: =G83+J83+L83+N83+P83 -> 6 | E83: 13 | G83: 0 | I83: 23 | J83: 2 | K83: 28 | L83: 2 | M83: 20 | N83: 0 | O83: 24 | P83: 2 | V83: =(AA83/(AC83*3))*3 -> 21.6 | X83: =V83/3 -> 7.2 | AA83: ='239 Grudzień'!E83+'239 Grudzień'!I83+'239 Grudzień'!K83+'239 Grudzień'!M83+'239 Grudzień'!O83+'239 Grudzień'!Q83 -> 108 | AC83: =COUNTA(E83,I83,K83,M83,O83) -> 5 | AD83: =(AC83*3)+AE83 -> 15
B85: 2 | C85: Donat Grotha | D85: =G85+J85+L85+N85+P85 -> 2 | E85: 15 | G85: 0 | I85: 25 | J85: 2 | K85: 22 | L85: 0 | M85: 25 | N85: 0 | V85: =(AA85/(AC85*3))*3 -> 21.75 | X85: =V85/3 -> 7.25 | AA85: ='239 Grudzień'!E85+'239 Grudzień'!I85+'239 Grudzień'!K85+'239 Grudzień'!M85+'239 Grudzień'!O85+'239 Grudzień'!Q85 -> 87 | AC85: =COUNTA(E85,I85,K85,M85,O85) -> 4 | AD85: =(AC85*3)+AE85 -> 12 | AF85: =AG85-36 -> 27 | AG85: =36+AD83+AD85 -> 63 | AH85: =AA83+AA85 -> 195 | AI85: =G5 -> 302 | AJ85: =AH85+AI85 -> 497 | AK85: =AH85/AF85 -> 7.2222222 | AL85: =AJ85/AG85 -> 7.8888889 | AM85: 2
C86: Paweł Kikel | D86: =G86+J86+L86+N86+P86 -> 6 | E86: 23 | G86: 2 | I86: 19 | J86: 0 | K86: 24 | L86: 2 | M86: 27 | N86: 2 | V86: =(AA86/(AC86*3))*3 -> 23.25 | X86: =V86/3 -> 7.75 | AA86: ='239 Grudzień'!E86+'239 Grudzień'!I86+'239 Grudzień'!K86+'239 Grudzień'!M86+'239 Grudzień'!O86+'239 Grudzień'!Q86 -> 93 | AC86: =COUNTA(E86,I86,K86,M86,O86) -> 4 | AD86: =(AC86*3)+AE86 -> 12
B88: 1 | C88: Paweł Kikel | AF88: =AG88-36 -> 12 | AG88: =36+AD86 -> 48 | AH88: =AA86 -> 93 | AI88: =G4 -> 315 | AJ88: =AH88+AI88 -> 408 | AK88: =AH88/AF88 -> 7.75 | AL88: =AJ88/AG88 -> 8.5 | AM88: 1

Sheet 238 Listopad
B1: Drabinka: | V1: Średnia punktów / rundę | X1: Średnia punktów /strzałę | AA1: Finał: | AF1: Drabinka + Finał
B2: Miejsce | C2: Zawodnik | D2: Skąd | E2: Łuk | G2: Suma | I2: 1 | J2: 2 | K2: 3 | L2: 4 | M2: 5 | N2: 6 | O2: 7 | P2: 8 | Q2: 9 | R2: 10 | S2: 11 | T2: 12 | AA2: Miejsce | AB2: Zawodnik | AC2: Średnia punktów / rundę | AD2: Średnia punktów /strzałę | AF2: Średnia punktów / rundę | AG2: Średnia punktów /strzałę
B4: 1 | C4: Paweł Kikel | D4: Koszalin | E4: BB | F4: [b] | G4: =SUM(I4:T4) -> 340 | H4: [/b]( | I4: 28 | J4: 30 | K4: 28 | L4: 27 | M4: 29 | N4: 29 | O4: 27 | P4: 28 | Q4: 28 | R4: 28 | S4: 28 | T4: 30 | U4: ) ( śr/runda | V4: =G4/12 -> 28.333333 | W4: śr/strzała | X4: =V4/3 -> 9.4444444 | Y4: )[/color] | AA4: 1 | AB4: =AJ4 -> Paweł Kikel | AC4: =AA55/3 -> 28.333333 | AD4: =AC4/3 -> 9.4444444 | AF4: =AG4*3 -> 28.333333 | AG4: =(AK4+AA55)/45 -> 9.4444444 | AJ4: =C4 -> Paweł Kikel | AK4: =G4 -> 340 | AL4: =AK4/12 -> 28.333333 | AM4: =AL4/3 -> 9.4444444
B5: 2 | C5: Krzysztof "FAZIK" Brzeziński | D5: Koszalin | E5: BB | F5: [b] | G5: =SUM(I5:T5) -> 274 | H5: [/b]( | I5: 25 | J5: 16 | K5: 18 | L5: 26 | M5: 20 | N5: 23 | O5: 26 | P5: 21 | Q5: 27 | R5: 28 | S5: 20 | T5: 24 | U5: ) ( śr/runda | V5: =G5/12 -> 22.833333 | W5: śr/strzała | X5: =V5/3 -> 7.6111111 | Y5: )[/color] | AA5: 2 | AB5: =AJ5 -> Krzysztof "FAZIK" Brzeziński | AC5: =AA54/3 -> 25 | AD5: =AC5/3 -> 8.3333333 | AF5: =AG5*3 -> 23.611111 | AG5: =(AK5+AA54+AA52)/54 -> 7.8703704 | AJ5: =C5 -> Krzysztof "FAZIK" Brzeziński | AK5: =G5 -> 274 | AL5: =AK5/12 -> 22.833333 | AM5: =AL5/3 -> 7.6111111
B6: 3 | C6: Mateusz Jezierski | D6: Koszalin | E6: Tz | F6: [b] | G6: =SUM(I6:T6) -> 257 | H6: [/b]( | I6: 6 | J6: 19 | K6: 24 | L6: 25 | M6: 22 | N6: 26 | O6: 25 | P6: 25 | Q6: 22 | R6: 26 | S6: 16 | T6: 21 | U6: ) ( śr/runda | V6: =G6/12 -> 21.416667 | W6: śr/strzała | X6: =V6/3 -> 7.1388889 | Y6: )[/color] | AA6: 3 | AB6: =AJ6 -> Mateusz Jezierski | AC6: =(AA51+AA49)/6 -> 23.166667 | AD6: =AC6/3 -> 7.7222222 | AF6: =AG6*3 -> 21.666667 | AG6: =(AK6+AA51)/45 -> 7.2222222 | AJ6: =C6 -> Mateusz Jezierski | AK6: =G6 -> 257 | AL6: =AK6/12 -> 21.416667 | AM6: =AL6/3 -> 7.1388889
B7: 4 | C7: Jerzy "Fala 133" Bohdziewicz | D7: Białogard | E7: BB | F7: [b] | G7: =SUM(I7:T7) -> 240 | H7: [/b]( | I7: 22 | J7: 22 | K7: 21 | L7: 24 | M7: 8 | N7: 16 | O7: 13 | P7: 24 | Q7: 23 | R7: 21 | S7: 23 | T7: 23 | U7: ) ( śr/runda | V7: =G7/12 -> 20 | W7: śr/strzała | X7: =V7/3 -> 6.6666667 | Y7: )[/color] | AA7: 4 | AB7: =AJ9 -> Robert "Gata" Piechota | AC7: =((AA40+AA42+AA45+AA48)/46)*3 -> 21.130435 | AD7: =AC7/3 -> 7.0434783 | AF7: =AG7*3 -> 19.792683 | AG7: =(AK9+AA48+AA45+AA42+AA40)/82 -> 6.597561 | AJ7: =C7 -> Jerzy "Fala 133" Bohdziewicz | AK7: =G7 -> 240 | AL7: =AK7/12 -> 20 | AM7: =AL7/3 -> 6.6666667
B8: 5 | C8: Krzysztof "Madereiro" Piękniewski | D8: Koszalin | E8: BB | F8: [b] | G8: =SUM(I8:T8) -> 226 | H8: [/b]( | I8: 13 | J8: 16 | K8: 22 | L8: 16 | M8: 24 | N8: 26 | O8: 23 | P8: 15 | Q8: 10 | R8: 16 | S8: 26 | T8: 19 | U8: ) ( śr/runda | V8: =G8/12 -> 18.833333 | W8: śr/strzała | X8: =V8/3 -> 6.2777778 | Y8: )[/color] | AA8: 5 | AB8: =AJ7 -> Jerzy "Fala 133" Bohdziewicz | AC8: =(AA46)/3 -> 16.333333 | AD8: =AC8/3 -> 5.4444444 | AF8: =AG8*3 -> 19.266667 | AG8: =(AK7+AA46)/45 -> 6.4222222 | AJ8: =C8 -> Krzysztof "Madereiro" Piękniewski | AK8: =G8 -> 226 | AL8: =AK8/12 -> 18.833333 | AM8: =AL8/3 -> 6.2777778
B9: 6 | C9: Robert "Gata" Piechota | D9: Koszalin | E9: Hunt | F9: [b] | G9: =SUM(I9:T9) -> 217 | H9: [/b]( | I9: 13 | J9: 15 | K9: 15 | L9: 15 | M9: 24 | N9: 24 | O9: 26 | P9: 24 | Q9: 24 | R9: 7 | S9: 6 | T9: 24 | U9: ) ( śr/runda | V9: =G9/12 -> 18.083333 | W9: śr/strzała | X9: =V9/3 -> 6.0277778 | Y9: )[/color] | AA9: 6 | AB9: =AJ8 -> Krzysztof "Madereiro" Piękniewski | AC9: =AA43/4 -> 17.75 | AD9: =AC9/3 -> 5.9166667 | AF9: =AG9*3 -> 18.5625 | AG9: =(AK8+AA43)/48 -> 6.1875 | AJ9: =C9 -> Robert "Gata" Piechota | AK9: =G9 -> 217 | AL9: =AK9/12 -> 18.083333 | AM9: =AL9/3 -> 6.0277778
B10: 7 | C10: Przemysław "Wizun" Wojciukiewicz | D10: Białogard | E10: Hunt | F10: [b] | G10: =SUM(I10:T10) -> 200 | H10: [/b]( | I10: 13 | J10: 20 | K10: 6 | L10: 24 | M10: 7 | N10: 14 | O10: 24 | P10: 24 | Q10: 20 | R10: 16 | S10: 12 | T10: 20 | U10: ) ( śr/runda | V10: =G10/12 -> 16.666667 | W10: śr/strzała | X10: =V10/3 -> 5.5555556 | Y10: )[/color] | AA10: 7 | AB10: =AJ11 -> Dariusz Kułaga | AC10: =((AA34+AA36+AA39)/37)*3 -> 20.027027 | AD10: =AC10/3 -> 6.6756757 | AF10: =AG10*3 -> 17.506849 | AG10: =(AK11+AA39+AA36+AA34)/73 -> 5.8356164 | AJ10: =C10 -> Przemysław "Wizun" Wojciukiewicz | AK10: =G10 -> 200 | AL10: =AK10/12 -> 16.666667 | AM10: =AL10/3 -> 5.5555556
B11: 8 | C11: Dariusz Kułaga | D11: Darłowo | E11: Hunt | F11: [b] | G11: =SUM(I11:T11) -> 179 | H11: [/b]( | I11: 0 | J11: 8 | K11: 7 | L11: 14 | M11: 12 | N11: 16 | O11: 22 | P11: 23 | Q11: 23 | R11: 7 | S11: 25 | T11: 22 | U11: ) ( śr/runda | V11: =G11/12 -> 14.916667 | W11: śr/strzała | X11: =V11/3 -> 4.9722222 | Y11: )[/color] | AA11: 8 | AB11: =AJ10 -> Przemysław "Wizun" Wojciukiewicz | AC11: =AA37/4 -> 14 | AD11: =AC11/3 -> 4.6666667 | AF11: =AG11*3 -> 15.058824 | AG11: =(AK10+AA37)/51 -> 5.0196078 | AJ11: =C11 -> Dariusz Kułaga | AK11: =G11 -> 179 | AL11: =AK11/12 -> 14.916667 | AM11: =AL11/3 -> 4.9722222
B12: 9 | C12: Jolanta "Fox" Lisowska | D12: Koszalin | E12: Hunt | F12: [b] | G12: =SUM(I12:T12) -> 174 | H12: [/b]( | I12: 12 | J12: 17 | K12: 12 | L12: 0 | M12: 17 | N12: 16 | O12: 19 | P12: 16 | Q12: 15 | R12: 20 | S12: 12 | T12: 18 | U12: ) ( śr/runda | V12: =G12/12 -> 14.5 | W12: śr/strzała | X12: =V12/3 -> 4.8333333 | Y12: )[/color] | AA12: 9 | AB12: =AJ12 -> Jolanta "Fox" Lisowska | AC12: =(AA31+AA33)/7 -> 15.142857 | AD12: =AC12/3 -> 5.047619 | AF12: =AG12*3 -> 14.736842 | AG12: =(AK12+AA33+AA31)/57 -> 4.9122807 | AJ12: =C12 -> Jolanta "Fox" Lisowska | AK12: =G12 -> 174 | AL12: =AK12/12 -> 14.5 | AM12: =AL12/3 -> 4.8333333
B13: 10 | C13: Kostiantyn Fedotov | D13: Koszalin | E13: Tz | F13: [b] | G13: =SUM(I13:T13) -> 154 | H13: [/b]( | I13: 23 | J13: 6 | K13: 13 | L13: 7 | M13: 21 | N13: 21 | O13: 0 | P13: 6 | Q13: 20 | R13: 14 | S13: 7 | T13: 16 | U13: ) ( śr/runda | V13: =G13/12 -> 12.833333 | W13: śr/strzała | X13: =V13/3 -> 4.2777778 | Y13: )[/color] | AA13: 10 | AB13: =AJ14 -> Katarzyna Kubiak | AC13: =((AA30+AA28)/28)*3 -> 12.642857 | AD13: =AC13/3 -> 4.2142857 | AF13: =AG13*3 -> 12.140625 | AG13: =(AK14+AA28+AA30)/64 -> 4.046875 | AJ13: =C13 -> Kostiantyn Fedotov | AK13: =G13 -> 154 | AL13: =AK13/12 -> 12.833333 | AM13: =AL13/3 -> 4.2777778
B14: 11 | C14: Katarzyna Kubiak | D14: Koszalin | E14: BB | F14: [b] | G14: =SUM(I14:T14) -> 141 | H14: [/b]( | I14: 9 | J14: 7 | K14: 8 | L14: 17 | M14: 17 | N14: 15 | O14: 7 | P14: 14 | Q14: 17 | R14: 16 | S14: 14 | T14: 0 | U14: ) ( śr/runda | V14: =G14/12 -> 11.75 | W14: śr/strzała | X14: =V14/3 -> 3.9166667 | Y14: )[/color] | AA14: 11 | AB14: =AJ13 -> Kostiantyn Fedotov | AC14: =(AA27/16)*3 -> 18 | AD14: =AC14/3 -> 6 | AF14: =AG14*3 -> 14.423077 | AG14: =(AK13+AA27)/52 -> 4.8076923 | AJ14: =C14 -> Katarzyna Kubiak | AK14: =G14 -> 141 | AL14: =AK14/12 -> 11.75 | AM14: =AL14/3 -> 3.9166667
B16: Tarcza Halowa Fita Vegas 3x 20cm, "10" polowa (punktacja Niebieskie = 6, Czerwone = 7-8, Żółte = 9-10 oraz X =10).
B17: Zawodnicy strzelają do dwóch mat czyli 4 tarcz jednocześnie. W każdej rundzie oddajemy 3 strzały, po jednym do każdej swojej tarczy. Po każdej rundzie przesuwają się w prawo o 1 tarczę.
B18: Po 4 rundach punkty są sumowane i powstaje tabelka rankingowa. Remisy rostrzyga liczba X trafionych w eliminacjach.
B19: Ostatnia osoba zostaje przy macie. Osoba wyżej podchodzi do przeciwnika. Osoba, która podchodzi ma wybór: kto zaczyna, albo wybiera matę i pole startowe. Druga osoba otrzymuje pozostałą opcję do wyboru.
B20: Dwójka strzela rundy do 6 Dużych punktów. 1 punkt zdobywa się za taką samą sumę punktową z 3 strzał w rundzie. 2 punkty za większą liczbę punktów w rundzie.
B21: W przypadku remisów 5 punktów dostrzeliwuje się punktowaną strzałę. Wyższy wynik wygrywa i przechodzi dalej. W przypadku remisu strzela się kolejną strzałę, w przypadku kolejnego remisu trzecią niepunktowaną strzałę. Zawodnik, którego trzecia strzała jest bliżej środka wygrywa i przechodzi dalej.
B23: Wygrywa ostatni, który pozostał.
V24: Średnia punktów / rundę | X24: Średnia punktów / strzałę
AA25: Suma Punktów
B26: Miejsce | C26: Zawodnik | D26: SUMA | E26: Tarcza | G26: PKT | I26: Tarcza | J26: PKT | K26: Tarcza | L26: PKT | M26: Tarcza | N26: PKT | O26: Tarcza | P26: PKT | Q26: Remis
B27: 11 | C27: Kostiantyn Fedotov | D27: =G27+J27+L27+N27+P27 -> 5 | E27: 19 | G27: 0 | I27: 25 | J27: 2 | K27: 13 | L27: 0 | M27: 15 | N27: 2 | O27: 18 | P27: 1 | Q27: 6 | V27: =(AA27/16)*3 -> 18 | X27: =V27/3 -> 6 | AA27: =E27+I27+K27+M27+O27+Q27 -> 96
C28: Katarzyna Kubiak | D28: =G28+J28+L28+N28+P28 -> 5 | E28: 21 | G28: 2 | I28: 15 | J28: 0 | K28: 17 | L28: 2 | M28: 7 | N28: 0 | O28: 18 | P28: 1 | Q28: 8 | V28: =(AA28/16)*3 -> 16.125 | X28: =V28/3 -> 5.375 | AA28: =E28+I28+K28+M28+O28+Q28 -> 86
B30: 10 | C30: Katarzyna Kubiak | D30: =G30+J30+L30+N30+P30 -> 2 | E30: 17 | G30: 2 | I30: 7 | J30: 0 | K30: 0 | L30: 0 | M30: 8 | N30: 0 | V30: =(AA30/12)*3 -> 8 | X30: =V30/3 -> 2.6666667 | AA30: =E30+I30+K30+M30+O30+Q30 -> 32
C31: Jolanta "Fox" Lisowska | D31: =G31+J31+L31+N31+P31 -> 6 | E31: 16 | G31: 0 | I31: 15 | J31: 2 | K31: 15 | L31: 2 | M31: 15 | N31: 2 | V31: =(AA31/12)*3 -> 15.25 | X31: =V31/3 -> 5.0833333 | AA31: =E31+I31+K31+M31+O31+Q31 -> 61
B33: 9 | C33: Jolanta "Fox" Lisowska | D33: =G33+J33+L33+N33+P33 -> 0 | E33: 17 | G33: 0 | I33: 14 | J33: 0 | K33: 14 | L33: 0 | V33: =(AA33/9)*3 -> 15 | X33: =V33/3 -> 5 | AA33: =E33+I33+K33+M33+O33+Q33 -> 45
C34: Dariusz Kułaga | D34: =G34+J34+L34+N34+P34 -> 6 | E34: 23 | G34: 2 | I34: 15 | J34: 2 | K34: 26 | L34: 2 | V34: =(AA34/9)*3 -> 21.333333 | X34: =V34/3 -> 7.1111111 | AA34: =E34+I34+K34+M34+O34+Q34 -> 64
C36: Dariusz Kułaga | D36: =G36+J36+L36+N36+P36 -> 6 | E36: 23 | G36: 2 | I36: 14 | J36: 2 | K36: 16 | L36: 0 | M36: 24 | N36: 2 | V36: =(AA36/12)*3 -> 19.25 | X36: =V36/3 -> 6.4166667 | AA36: =E36+I36+K36+M36+O36+Q36 -> 77
B37: 8 | C37: Przemysław "Wizun" Wojciukiewicz | D37: =G37+J37+L37+N37+P37 -> 2 | E37: 14 | G37: 0 | I37: 8 | J37: 0 | K37: 25 | L37: 2 | M37: 9 | N37: 0 | V37: =(AA37/12)*3 -> 14 | X37: =V37/3 -> 4.6666667 | AA37: =E37+I37+K37+M37+O37+Q37 -> 56
B39: 7 | C39: Dariusz Kułaga | D39: =G39+J39+L39+N39+P39 -> 5 | E39: 7 | G39: 0 | I39: 24 | J39: 2 | K39: 23 | L39: 2 | M39: 23 | N39: 1 | O39: 22 | P39: 0 | Q39: 7 | V39: =(AA39/16)*3 -> 19.875 | X39: =V39/3 -> 6.625 | AA39: =E39+I39+K39+M39+O39+Q39 -> 106
C40: Robert "Gata" Piechota | D40: =G40+J40+L40+N40+P40 -> 5 | E40: 13 | G40: 2 | I40: 22 | J40: 0 | K40: 16 | L40: 0 | M40: 23 | N40: 1 | O40: 28 | P40: 2 | Q40: 9 | V40: =(AA40/16)*3 -> 20.8125 | X40: =V40/3 -> 6.9375 | AA40: =E40+I40+K40+M40+O40+Q40 -> 111
C42: Robert "Gata" Piechota | D42: =G42+J42+L42+N42+P42 -> 7 | E42: 22 | G42: 2 | I42: 23 | J42: 1 | K42: 21 | L42: 2 | M42: 28 | N42: 2 | V42: =(AA42/12)*3 -> 23.5 | X42: =V42/3 -> 7.8333333 | AA42: =E42+I42+K42+M42+O42+Q42 -> 94
B43: 6 | C43: Krzysztof "Madereiro" Piękniewski | D43: =G43+J43+L43+N43+P43 -> 1 | E43: 9 | G43: 0 | I43: 23 | J43: 1 | K43: 14 | L43: 0 | M43: 25 | N43: 0 | V43: =(AA43/12)*3 -> 17.75 | X43: =V43/3 -> 5.9166667 | AA43: =E43+I43+K43+M43+O43+Q43 -> 71
C45: Robert "Gata" Piechota | D45: =G45+J45+L45+N45+P45 -> 6 | E45: 22 | G45: 2 | I45: 21 | J45: 2 | K45: 22 | L45: 2 | V45: =(AA45/9)*3 -> 21.666667 | X45: =V45/3 -> 7.2222222 | AA45: =E45+I45+K45+M45+O45+Q45 -> 65
B46: 5 | C46: Jerzy "Fala 133" Bohdziewicz | D46: =G46+J46+L46+N46+P46 -> 0 | E46: 18 | G46: 0 | I46: 15 | J46: 0 | K46: 16 | L46: 0 | V46: =(AA46/9)*3 -> 16.333333 | X46: =V46/3 -> 5.4444444 | AA46: =E46+I46+K46+M46+O46+Q46 -> 49
B48: 4 | C48: Robert "Gata" Piechota | D48: =G48+J48+L48+N48+P48 -> 0 | E48: 21 | G48: 0 | I48: 17 | J48: 0 | K48: 16 | L48: 0 | V48: =(AA48/9)*3 -> 18 | X48: =V48/3 -> 6 | AA48: =E48+I48+K48+M48+O48+Q48 -> 54
C49: Mateusz Jezierski | D49: =G49+J49+L49+N49+P49 -> 6 | E49: 23 | G49: 2 | I49: 23 | J49: 2 | K49: 25 | L49: 2 | V49: =(AA49/9)*3 -> 23.666667 | X49: =V49/3 -> 7.8888889 | AA49: =E49+I49+K49+M49+O49+Q49 -> 71
B51: 3 | C51: Mateusz Jezierski | D51: =G51+J51+L51+N51+P51 -> 0 | E51: 22 | G51: 0 | I51: 21 | J51: 0 | K51: 25 | L51: 0 | V51: =(AA51/9)*3 -> 22.666667 | X51: =V51/3 -> 7.5555556 | AA51: =E51+I51+K51+M51+O51+Q51 -> 68
C52: Krzysztof "FAZIK" Brzeziński | D52: =G52+J52+L52+N52+P52 -> 6 | E52: 25 | G52: 2 | I52: 25 | J52: 2 | K52: 26 | L52: 2 | V52: =(AA52/9)*3 -> 25.333333 | X52: =V52/3 -> 8.4444444 | AA52: =E52+I52+K52+M52+O52+Q52 -> 76
B54: 2 | C54: Krzysztof "FAZIK" Brzeziński | D54: =G54+J54+L54+N54+P54 -> 0 | E54: 22 | G54: 0 | I54: 27 | J54: 0 | K54: 26 | L54: 0 | V54: =(AA54/9)*3 -> 25 | X54: =V54/3 -> 8.3333333 | AA54: =E54+I54+K54+M54+O54+Q54 -> 75
C55: Paweł Kikel | D55: =G55+J55+L55+N55+P55 -> 6 | E55: 27 | G55: 2 | I55: 28 | J55: 2 | K55: 30 | L55: 2 | V55: =(AA55/9)*3 -> 28.333333 | X55: =V55/3 -> 9.4444444 | AA55: =E55+I55+K55+M55+O55+Q55 -> 85
K56: XX
B57: 1 | C57: Paweł Kikel

Sheet 237 Październik
B1: Drabinka: | V1: Średnia punktów / rundę | X1: Średnia punktów /strzałę | AA1: Finał: | AF1: Drabinka + Finał
B2: Miejsce | C2: Zawodnik | D2: Skąd | E2: Łuk | G2: Suma | I2: 1 | J2: 2 | K2: 3 | L2: 4 | M2: 5 | N2: 6 | O2: 7 | P2: 8 | Q2: 9 | R2: 10 | S2: 11 | T2: 12 | AA2: Miejsce | AB2: Zawodnik | AC2: Średnia punktów / rundę | AD2: Średnia punktów /strzałę | AF2: Średnia punktów / rundę | AG2: Średnia punktów /strzałę
B4: 1 | C4: Igor Adaszkiewicz | D4: Lębork | E4: Hunt | F4: [b] | G4: =SUM(I4:T4) -> 294 | H4: [/b]( | I4: 22 | J4: 24 | K4: 22 | L4: 25 | M4: 27 | N4: 26 | O4: 26 | P4: 23 | Q4: 26 | R4: 22 | S4: 27 | T4: 24 | U4: ) ( śr/runda | V4: =G4/12 -> 24.5 | W4: śr/strzała | X4: =V4/3 -> 8.1666667 | Y4: )[/color] | AA4: 1 | AB4: =C4 -> Igor Adaszkiewicz | AC4: =AA43/4 -> 26.75 | AD4: =AC4/3 -> 8.9166667 | AF4: =(AA43+AO4)/16 -> 25.0625 | AG4: =AF4/3 -> 8.3541667 | AN4: =C4 -> Igor Adaszkiewicz | AO4: =G4 -> 294 | AP4: =AO4/12 -> 24.5 | AQ4: =AP4/3 -> 8.1666667
B5: 2 | C5: Krzysztof "FAZIK" Brzeziński | D5: Koszalin | E5: BB | F5: [b] | G5: =SUM(I5:T5) -> 278 | H5: [/b]( | I5: 25 | J5: 24 | K5: 27 | L5: 24 | M5: 24 | N5: 26 | O5: 25 | P5: 26 | Q5: 21 | R5: 18 | S5: 23 | T5: 15 | U5: ) ( śr/runda | V5: =G5/12 -> 23.166667 | W5: śr/strzała | X5: =V5/3 -> 7.7222222 | Y5: )[/color] | Z5: x | AA5: 2 | AB5: =C5 -> Krzysztof "FAZIK" Brzeziński | AC5: =(AA40+AA42)/9 -> 23.333333 | AD5: =AC5/3 -> 7.7777778 | AF5: =(AA40+AA42+AO5)/21 -> 23.238095 | AG5: =AF5/3 -> 7.7460317 | AN5: =C5 -> Krzysztof "FAZIK" Brzeziński | AO5: =G5 -> 278 | AP5: =AO5/12 -> 23.166667 | AQ5: =AP5/3 -> 7.7222222
B6: 3 | C6: Donat Grotha | D6: Lębork | E6: BB | F6: [b] | G6: =SUM(I6:T6) -> 277 | H6: [/b]( | I6: 15 | J6: 22 | K6: 22 | L6: 23 | M6: 23 | N6: 24 | O6: 24 | P6: 25 | Q6: 29 | R6: 18 | S6: 26 | T6: 26 | U6: ) ( śr/runda | V6: =G6/12 -> 23.083333 | W6: śr/strzała | X6: =V6/3 -> 7.6944444 | Y6: )[/color] | Z6: xx | AA6: 3 | AB6: =C6 -> Donat Grotha | AC6: =(AA37+AA39)/8 -> 23.25 | AD6: =AC6/3 -> 7.75 | AF6: =(AA37+AA39+AO6)/20 -> 23.15 | AG6: =AF6/3 -> 7.7166667 | AN6: =C6 -> Donat Grotha | AO6: =G6 -> 277 | AP6: =AO6/12 -> 23.083333 | AQ6: =AP6/3 -> 7.6944444
B7: 4 | C7: Marzena Goike | D7: Lębork | E7: T | F7: [b] | G7: =SUM(I7:T7) -> 225 | H7: [/b]( | I7: 14 | J7: 24 | K7: 25 | L7: 22 | M7: 23 | N7: 18 | O7: 20 | P7: 7 | Q7: 22 | R7: 13 | S7: 22 | T7: 15 | U7: ) ( śr/runda | V7: =G7/12 -> 18.75 | W7: śr/strzała | X7: =V7/3 -> 6.25 | Y7: )[/color] | AA7: 4 | AB7: =C7 -> Marzena Goike | AC7: =(AA34+AA36)/7 -> 17.142857 | AD7: =AC7/3 -> 5.7142857 | AF7: =(AA34+AA36+AO7)/19 -> 18.157895 | AG7: =AF7/3 -> 6.0526316 | AN7: =C7 -> Marzena Goike | AO7: =G7 -> 225 | AP7: =AO7/12 -> 18.75 | AQ7: =AP7/3 -> 6.25
B8: 5 | C8: Piotr Białecki | D8: Białogard | E8: T | F8: [b] | G8: =SUM(I8:T8) -> 222 | H8: [/b]( | I8: 6 | J8: 6 | K8: 23 | L8: 24 | M8: 14 | N8: 24 | O8: 22 | P8: 22 | Q8: 25 | R8: 16 | S8: 16 | T8: 24 | U8: ) ( śr/runda | V8: =G8/12 -> 18.5 | W8: śr/strzała | X8: =V8/3 -> 6.1666667 | Y8: )[/color] | AA8: 5 | AB8: =C11 -> Wojciech Białecki | AC8: =(AA24+AA27+AA30+AA33)/17 -> 17.647059 | AD8: =AC8/3 -> 5.8823529 | AF8: =(AA24+AA27+AA30+AA33+AO11)/29 -> 15.758621 | AG8: =AF8/3 -> 5.2528736 | AN8: =C8 -> Piotr Białecki | AO8: =G8 -> 222 | AP8: =AO8/12 -> 18.5 | AQ8: =AP8/3 -> 6.1666667
B9: 6 | C9: Przemysław "Wizun" Wojciukiewicz | D9: Białogard | E9: Hunt | F9: [b] | G9: =SUM(I9:T9) -> 176 | H9: [/b]( | I9: 7 | J9: 12 | K9: 18 | L9: 17 | M9: 6 | N9: 19 | O9: 15 | P9: 16 | Q9: 25 | R9: 13 | S9: 12 | T9: 16 | U9: ) ( śr/runda | V9: =G9/12 -> 14.666667 | W9: śr/strzała | X9: =V9/3 -> 4.8888889 | Y9: )[/color] | Z9: xx | AA9: 6 | AB9: =C8 -> Piotr Białecki | AC9: =AA31/5 -> 16.2 | AD9: =AC9/3 -> 5.4 | AF9: =(54+AO8)/17 -> 16.235294 | AG9: =AF9/3 -> 5.4117647 | AN9: =C9 -> Przemysław "Wizun" Wojciukiewicz | AO9: =G9 -> 176 | AP9: =AO9/12 -> 14.666667 | AQ9: =AP9/3 -> 4.8888889
B10: 7 | C10: Jerzy "Fala 133" Bohdziewicz | D10: Białogard | E10: T | F10: [b] | G10: =SUM(I10:T10) -> 163 | H10: [/b]( | I10: 16 | J10: 14 | K10: 6 | L10: 19 | M10: 14 | N10: 16 | O10: 14 | P10: 15 | Q10: 8 | R10: 6 | S10: 25 | T10: 10 | U10: ) ( śr/runda | V10: =G10/12 -> 13.583333 | W10: śr/strzała | X10: =V10/3 -> 4.5277778 | Y10: )[/color] | Z10: xxx | AA10: 7 | AB10: =C9 -> Przemysław "Wizun" Wojciukiewicz | AC10: =AA28/4 -> 12.5 | AD10: =AC10/3 -> 4.1666667 | AF10: =(50+AO9)/16 -> 14.125 | AG10: =AF10/3 -> 4.7083333 | AN10: =C10 -> Jerzy "Fala 133" Bohdziewicz | AO10: =G10 -> 163 | AP10: =AO10/12 -> 13.583333 | AQ10: =AP10/3 -> 4.5277778
B11: 8 | C11: Wojciech Białecki | D11: Białogard | E11: Hunt | F11: [b] | G11: =SUM(I11:T11) -> 157 | H11: [/b]( | I11: 7 | J11: 8 | K11: 6 | L11: 6 | M11: 8 | N11: 24 | O11: 16 | P11: 16 | Q11: 16 | R11: 26 | S11: 8 | T11: 16 | U11: ) ( śr/runda | V11: =G11/12 -> 13.083333 | W11: śr/strzała | X11: =V11/3 -> 4.3611111 | Y11: )[/color] | AA11: 8 | AB11: =C10 -> Jerzy "Fala 133" Bohdziewicz | AC11: =AA25/5 -> 14.2 | AD11: =AC11/3 -> 4.7333333 | AF11: =(71+AO10)/16 -> 14.625 | AG11: =AF11/3 -> 4.875 | AN11: =C11 -> Wojciech Białecki | AO11: =G11 -> 157 | AP11: =AO11/12 -> 13.083333 | AQ11: =AP11/3 -> 4.3611111
B13: Tarcza Halowa Fita Vegas 3x 20cm, "10" polowa (punktacja Niebieskie = 6, Czerwone = 7-8, Żółte = 9-10 oraz X =10).
B14: Zawodnicy strzelają do dwóch mat czyli 4 tarcz jednocześnie. W każdej rundzie oddajemy 3 strzały, po jednym do każdej swojej tarczy. Po każdej rundzie przesuwają się w prawo o 1 tarczę.
B15: Po 4 rundach punkty są sumowane i powstaje tabelka rankingowa. Remisy rostrzyga liczba X trafionych w eliminacjach.
B16: Ostatnia osoba zostaje przy macie. Osoba wyżej podchodzi do przeciwnika. Osoba, która podchodzi ma wybór: kto zaczyna, albo wybiera matę i pole startowe. Druga osoba otrzymuje pozostałą opcję do wyboru.
B17: Dwójka strzela rundy do 6 Dużych punktów. 1 punkt zdobywa się za taką samą sumę punktową z 3 strzał w rundzie. 2 punkty za większą liczbę punktów w rundzie.
B18: W przypadku remisów 5 punktów dostrzeliwuje się punktowaną strzałę. Wyższy wynik wygrywa i przechodzi dalej. W przypadku remisu strzela się kolejną strzałę, w przypadku kolejnego remisu trzecią niepunktowaną strzałę. Zawodnik, którego trzecia strzała jest bliżej środka wygrywa i przechodzi dalej.
B20: Wygrywa ostatni, który pozostał.
V21: Średnia punktów / rundę | X21: Średnia punktów / strzałę
AA22: Suma Punktów
B23: Miejsce | C23: Zawodnik | D23: SUMA | E23: Tarcza | G23: PKT | I23: Tarcza | J23: PKT | K23: Tarcza | L23: PKT | M23: Tarcza | N23: PKT | O23: Tarcza | P23: PKT | Q23: Remis
C24: Wojciech Białecki | D24: =G24+J24+L24+N24+P24 -> 6 | E24: 26 | G24: 2 | I24: 25 | J24: 2 | K24: 20 | L24: 0 | M24: 16 | N24: 2 | V24: =AA24/4 -> 21.75 | X24: =V24/3 -> 7.25 | AA24: =E24+I24+K24+M24+O24 -> 87
B25: 8 | C25: Jerzy "Fala 133" Bohdziewicz | D25: =G25+J25+L25+N25+P25 -> 2 | E25: 13 | G25: 0 | I25: 21 | J25: 0 | K25: 23 | L25: 2 | M25: 14 | N25: 0 | V25: =AA25/4 -> 17.75 | X25: =V25/3 -> 5.9166667 | AA25: =E25+I25+K25+M25+O25 -> 71
C27: Wojciech Białecki | D27: =G27+J27+L27+N27+P27 -> 6 | E27: 7 | G27: 0 | I27: 9 | J27: 2 | K27: 22 | L27: 2 | M27: 22 | N27: 2 | V27: =AA27/4 -> 15 | X27: =V27/3 -> 5 | AA27: =E27+I27+K27+M27+O27 -> 60
B28: 7 | C28: Przemysław "Wizun" Wojciukiewicz | D28: =G28+J28+L28+N28+P28 -> 2 | E28: 15 | G28: 2 | I28: 7 | J28: 0 | K28: 18 | L28: 0 | M28: 10 | N28: 0 | V28: =AA28/4 -> 12.5 | X28: =V28/3 -> 4.1666667 | AA28: =E28+I28+K28+M28+O28 -> 50
C30: Wojciech Białecki | D30: =G30+J30+L30+N30+P30 -> 6 | E30: 22 | G30: 2 | I30: 25 | J30: 2 | K30: 16 | L30: 0 | M30: 13 | N30: 0 | O30: 18 | P30: 2 | V30: =AA30/5 -> 18.8 | X30: =V30/3 -> 6.2666667 | AA30: =E30+I30+K30+M30+O30 -> 94
B31: 6 | C31: Piotr Białecki | D31: =G31+J31+L31+N31+P31 -> 4 | E31: 14 | G31: 0 | I31: 18 | J31: 0 | K31: 17 | L31: 2 | M31: 19 | N31: 2 | O31: 13 | P31: 0 | V31: =AA31/5 -> 16.2 | X31: =V31/3 -> 5.4 | AA31: =E31+I31+K31+M31+O31 -> 81
B33: 5 | C33: Wojciech Białecki | D33: =G33+J33+L33+N33+P33 -> 2 | E33: 14 | G33: 0 | I33: 6 | J33: 2 | K33: 17 | L33: 0 | M33: 22 | N33: 0 | V33: =AA33/4 -> 14.75 | X33: =V33/3 -> 4.9166667 | AA33: =E33+I33+K33+M33+O33 -> 59
C34: Marzena Goike | D34: =G34+J34+L34+N34+P34 -> 6 | E34: 16 | G34: 2 | I34: 0 | J34: 0 | K34: 22 | L34: 2 | M34: 28 | N34: 2 | V34: =AA34/4 -> 16.5 | X34: =V34/3 -> 5.5 | AA34: =E34+I34+K34+M34+O34 -> 66
B36: 4 | C36: Marzena Goike | D36: =G36+J36+L36+N36+P36 -> 0 | E36: 12 | G36: 0 | I36: =6+9+9 -> 24 | J36: 0 | K36: =18 -> 18 | L36: 0 | V36: =AA36/3 -> 18 | X36: =V36/3 -> 6 | AA36: =E36+I36+K36+M36+O36 -> 54
C37: Donat Grotha | D37: =G37+J37+L37+N37+P37 -> 6 | E37: 23 | G37: 2 | I37: =26 -> 26 | J37: 2 | K37: =24 -> 24 | L37: 2 | V37: =AA37/3 -> 24.333333 | X37: =V37/3 -> 8.1111111 | AA37: =E37+I37+K37+M37+O37 -> 73
B39: 3 | C39: Donat Grotha | D39: =G39+J39+L39+N39+P39 -> 4 | E39: 22 | G39: 0 | I39: 23 | J39: 0 | K39: 26 | L39: 2 | M39: 24 | N39: 2 | O39: 18 | P39: 0 | V39: =AA39/5 -> 22.6 | X39: =V39/3 -> 7.5333333 | AA39: =E39+I39+K39+M39+O39 -> 113
C40: Krzysztof "FAZIK" Brzeziński | D40: =G40+J40+L40+N40+P40 -> 6 | E40: 28 | G40: 2 | I40: 25 | J40: 2 | K40: 24 | L40: 0 | M40: 14 | N40: 0 | O40: 23 | P40: 2 | V40: =AA40/5 -> 22.8 | X40: =V40/3 -> 7.6 | AA40: =E40+I40+K40+M40+O40 -> 114
B42: 2 | C42: Krzysztof "FAZIK" Brzeziński | D42: =G42+J42+L42+N42+P42 -> 2 | E42: 27 | G42: 2 | I42: 21 | J42: 0 | K42: 24 | L42: 0 | M42: 24 | N42: 0 | V42: =AA42/4 -> 24 | X42: =V42/3 -> 8 | AA42: =E42+I42+K42+M42+O42 -> 96
C43: Igor Adaszkiewicz | D43: =G43+J43+L43+N43+P43 -> 6 | E43: 24 | G43: 0 | I43: 29 | J43: 2 | K43: 28 | L43: 2 | M43: 26 | N43: 2 | V43: =AA43/4 -> 26.75 | X43: =V43/3 -> 8.9166667 | AA43: =E43+I43+K43+M43+O43 -> 107
B45: 1 | C45: Igor Adaszkiewicz

Sheet Zasady
B1: Zasady:
B3: Mistrzostwa Klubowe. Mistrzostwa rozgrywane będą w Klubie Wojskowym w miesiącach Październik, Listopad i Grudzień. Wszystkie Turnieje będą rozgrywane z takimi samymi konkurencjami: Strzelamy do: Tarcza 3x 20cm Vegas, "10" polowa (punktacja Niebieskie = 6, Czerwone = 7-8, Żółte = 9-10 oraz X =10). Odległość ok 10 metrów. Zasady rankingowe: Strzelamy 12 kolejek rankingowych. Zawodnicy strzelają jednocześnie do dwóch mat czyli 4 tarcz (3x20cm). W każdej rundzie oddajemy 3 strzały, po jednym do każdej swojej tarczy 20cm. W przypadku trafienia więcej niż 1 raz w tą samą tarczę liczy się najgorszy wynik. W każdej następnej rundzie zawodnicy przesuwają się w prawo o 1 tarczę. W sumie w 4 rundach każdy wystrzeli 1 raz do każdej z 4 tarcz rozmieszczonych na 2 matach. Po 12 rundach (36 strzał) punkty są sumowane i powstaje tabelka wyników. Ewentualne remisy rozstrzyga liczba X (10) trafionych w eliminacjach. W przypadku ewentualnego remisu wygrywa ten kto trafił X (10) jako pierwszy. Jeśli i to było równoczesne decyduje kolejność zapisów na liście startowej.
B4: Po trzech miesiącach zmagań najlepszy wynik każdego obecnego zawodnika zostanie umieszczony w ostatecznej drabince rankingowej i zgodnie z nią odbędzie się ostateczny Turniej, w którym wyłonimy Mistrza Sekcji Łuczniczej Klubu Wojskowego 8 Pułku Przeciwlotniczego w Koszalinie, który otrzyma dyplom imienia pomysłodawcy - Edwarda Gajewskiego.
B5: Zasady eliminacyjne: Ostatnia osoba z rankingu pozostaje przy dowolnej macie. Osoba wyżej z rankingu podchodzi na tor. Osoba, która podchodzi ma wybór: 1) kto zaczyna lub: 2) wybiera matę i swoje pole startowe (tarczę). Druga osoba otrzymuje pozostałą opcję. Obie osoby muszą strzelać do tej samej maty. Dwójka strzela rundy eliminacyjne do 6 Dużych punktów. 1 Duży punkt zdobywa się za taką samą sumę punktową z 3 strzał w rundzie (remis). 2 Duże punkty za większą liczbę punktów w rundzie (wygrana). Osoba, która jako pierwsza uzyska 6 Dużych punktów pozostaje przy macie i czeka na kolejnego przeciwnika sklasyfikowanego wyżej w tabeli rankingowej. W przypadku remisów 5 punktów dostrzeliwuje się punktowaną strzałę. Wyższy wynik punktowy wygrywa i przechodzi dalej. W przypadku remisu strzela się kolejną punktowaną strzałę, w przypadku kolejnego remisu trzecią niepunktowaną strzałę. Zawodnik, którego trzecia strzała jest bliżej środka wygrywa i przechodzi dalej. Wygrywa ostatni, który pozostał. Pozostałe osoby są naturalnie sklasyfikowane tak jak zostawały pokonane w eliminacjach. Osoby, które nie są obecne w Grudniu zostają sklasyfikowane na miejscach kolejnych zgodnie ze swoim najlepszym wynikiem w Mistrzostwach Klubu.
B6: Bez rozgraniczenia kategorii ze względu na płeć, łuk, strzały czy styl strzelania. ZAKAZ używania spustów mechanicznych jak również celowników w dowolnej formie (sędzia decyduje czy linie na Twoim majdanie to celownik ...).
B7: https://kkr.nsc.pl/forum/viewtopic.php?p=50413#p50413
